Workbook
Name ____________________________________________________________________kk29: #REF!
Name ____________________________________________________________________kk29: #REF!
Name ____________________________________________________________________kk29: #REF!
Name ____________________________________________________________________kk29: #REF!
Name ____________________________________________________________________kk29: #REF!
Name ____________________________________________________________________kk29: #REF!
Name ____________________________________________________________________kk29: #REF!
Name ____________________________________________________________________kk29: #REF!
Name ___________________________________________________________________kk29: #REF!
Name ___________________________________________________________________kk29: #REF!
Name ___________________________________________________________________kk29: #REF!
Name ___________________________________________________________________kk29: #REF!
Name ___________________________________________________________________kk29: #REF!
Name ___________________________________________________________________kk29: #REF!
Name __________________________________________________________________kk29: #REF!
Name __________________________________________________________________kk29: #REF!
Name __________________________________________________________________kk29: #REF!
Name __________________________________________________________________kk29: #REF!
Name __________________________________________________________________kk29: #REF!
Name __________________________________________________________________kk29: #REF!
Name _________________________________________________________________kk06: #REF!
Name _________________________________________________________________kk06: #REF!
Name _________________________________________________________________kk06: #REF!
Name _________________________________________________________________kk06: #REF!
Name _________________________________________________________________kk06: #REF!
Name _________________________________________________________________kk06: #REF!
Name _________________________________________________________________kk29: #REF!
Name _________________________________________________________________kk29: #REF!
Name _________________________________________________________________kk29: #REF!
Name _________________________________________________________________kk29: #REF!
Name _________________________________________________________________kk29: #REF!
Name _________________________________________________________________kk29: #REF!
Name ________________________________________________________________kk06: #REF!
Name ________________________________________________________________kk06: #REF!
Name ________________________________________________________________kk06: #REF!
Name ________________________________________________________________kk06: #REF!
Name ________________________________________________________________kk06: #REF!
Name ________________________________________________________________kk06: #REF!
Name ________________________________________________________________kk29: #REF!
Name ________________________________________________________________kk29: #REF!
Name ________________________________________________________________kk29: #REF!
Name ________________________________________________________________kk29: #REF!
Name ________________________________________________________________kk29: #REF!
Name ________________________________________________________________kk29: #REF!
Name _______________________________________________________________kk06: #REF!
Name _______________________________________________________________kk06: #REF!
Name _______________________________________________________________kk06: #REF!
Name _______________________________________________________________kk06: #REF!
Name _______________________________________________________________kk06: #REF!
Name _______________________________________________________________kk06: #REF!
Name _______________________________________________________________kk29: #REF!
Name _______________________________________________________________kk29: #REF!
Name _______________________________________________________________kk29: #REF!
Name _______________________________________________________________kk29: #REF!
Name _______________________________________________________________kk29: #REF!
Name _______________________________________________________________kk29: #REF!
Name ______________________________________________________________kk06: #REF!
Name ______________________________________________________________kk06: #REF!
Name ______________________________________________________________kk06: #REF!
Name ______________________________________________________________kk06: #REF!

Sheet 介護給付費等算定に係る体制等に関する届出書
AJ1: （令和３年度以降）
A2: 介護給付費等算定に係る体制等に関する届出書
A4: 福 岡 市 長 | Y4: 令和 | AC4: 年 | AF4: 月 | AI4: 日
M7: 届出者 | P7: 主たる事務所 の所在地 | U7: ：
P9: 名 称 | U9: ：
P11: 代表者の職・氏名 | U11: ：
A13: このことについて、関係書類を添えて以下のとおり届け出ます。
A15: 事業所番号
A16: 主たる事業所 （施設）の名称 | G16: （ﾌﾘｶﾞﾅ）
A18: 事業所（施設） の所在地 | G18: 郵便番号（ | P18: ）
A23: 届け出る事業所の事業の種類及び同一所在地において行う事業等の種類等 | J23: 実施 事業 | M23: 異動等の区分 | Z23: 異動年月日
A25: 介 護 給 付 | B25: 居宅介護
N26: １ 新規 | R26: ２ 変更 | V26: ３ 終了 | Z26: 令和 | AD26: 年 | AG26: 月 | AJ26: 日
B29: 重度訪問介護
N30: １ 新規 | R30: ２ 変更 | V30: ３ 終了 | Z30: 令和 | AD30: 年 | AG30: 月 | AJ30: 日
B33: 同行援護
N34: １ 新規 | R34: ２ 変更 | V34: ３ 終了 | Z34: 令和 | AD34: 年 | AG34: 月 | AJ34: 日
B37: 行動援護
N38: １ 新規 | R38: ２ 変更 | V38: ３ 終了 | Z38: 令和 | AD38: 年 | AG38: 月 | AJ38: 日
B41: 療養介護
N42: １ 新規 | R42: ２ 変更 | V42: ３ 終了 | Z42: 令和 | AD42: 年 | AG42: 月 | AJ42: 日
B45: 生活介護
N46: １ 新規 | R46: ２ 変更 | V46: ３ 終了 | Z46: 令和 | AD46: 年 | AG46: 月 | AJ46: 日
B49: 短期入所
N50: １ 新規 | R50: ２ 変更 | V50: ３ 終了 | Z50: 令和 | AD50: 年 | AG50: 月 | AJ50: 日
B53: 重度障害者等包括支援
N54: １ 新規 | R54: ２ 変更 | V54: ３ 終了 | Z54: 令和 | AD54: 年 | AG54: 月 | AJ54: 日
B57: 施設入所支援
N58: １ 新規 | R58: ２ 変更 | V58: ３ 終了 | Z58: 令和 | AD58: 年 | AG58: 月 | AJ58: 日
A61: 訓練等給付 | B61: 自立訓練（機能訓練）
N62: １ 新規 | R62: ２ 変更 | V62: ３ 終了 | Z62: 令和 | AD62: 年 | AG62: 月 | AJ62: 日
B65: 宿泊型自立訓練
N66: １ 新規 | R66: ２ 変更 | V66: ３ 終了 | Z66: 令和 | AD66: 年 | AG66: 月 | AJ66: 日
B69: 自立訓練（生活訓練）
N70: １ 新規 | R70: ２ 変更 | V70: ３ 終了 | Z70: 令和 | AD70: 年 | AG70: 月 | AJ70: 日
B73: 就労移行支援
N74: １ 新規 | R74: ２ 変更 | V74: ３ 終了 | Z74: 令和 | AD74: 年 | AG74: 月 | AJ74: 日
B77: 就労継続支援（Ａ型）
N78: １ 新規 | R78: ２ 変更 | V78: ３ 終了 | Z78: 令和 | AD78: 年 | AG78: 月 | AJ78: 日
B81: 就労継続支援（Ｂ型）
N82: １ 新規 | R82: ２ 変更 | V82: ３ 終了 | Z82: 令和 | AD82: 年 | AG82: 月 | AJ82: 日
B85: 就労定着支援
N86: １ 新規 | R86: ２ 変更 | V86: ３ 終了 | Z86: 令和 | AD86: 年 | AG86: 月 | AJ86: 日
B89: 自立生活援助
N90: １ 新規 | R90: ２ 変更 | V90: ３ 終了 | Z90: 令和 | AD90: 年 | AG90: 月 | AJ90: 日
B93: 共同生活援助
N94: １ 新規 | R94: ２ 変更 | V94: ３ 終了 | Z94: 令和 | AD94: 年 | AG94: 月 | AJ94: 日
A97: 地域相談支援 (地域移行支援）
N98: １ 新規 | R98: ２ 変更 | V98: ３ 終了 | Z98: 令和 | AD98: 年 | AG98: 月 | AJ98: 日
A101: 地域相談支援 (地域定着支援）
N102: １ 新規 | R102: ２ 変更 | V102: ３ 終了 | Z102: 令和 | AD102: 年 | AG102: 月 | AJ102: 日
A105: 特定相談支援
N106: １ 新規 | R106: ２ 変更 | V106: ３ 終了 | Z106: 令和 | AD106: 年 | AG106: 月 | AJ106: 日
A109: 障害児相談支援
N110: １ 新規 | R110: ２ 変更 | V110: ３ 終了 | Z110: 令和 | AD110: 年 | AG110: 月 | AJ110: 日

Sheet 体制等状況一覧表
A1: 障害児通所・入所給付費の算定に係る体制等状況一覧表（障害児相談支援及び特定相談支援） | CJ1: 変更あり
AG2: 事業所名を入力してください。↓ | AZ2: 事業所番号を入力してください。↓ | BI2: 提出日を入力してください。↓
AZ3: 事業所番号 | BD3: 407…
AB4: 事業所名 | BD4: 403… | BJ4: 提出日
A5: 提供サービス | J5: 特例による指定の有無 | O5: 定員規模 （※1） | S5: 施設等区分 | Z5: 主たる障害種別 | AG5: その他該当する体制等 | BJ5: 前回からの 変更の有無 | BK5: 適用開始日
A7: 各サービス共通 | AG7: 地域区分 | AQ7: 15．五級地
A8: 相談支援 | B8: 障害児相談支援及び特定相談支援 | AG8: 相談支援機能強化型体制 | CK8: １．なし | CL8: ２．Ⅱ | CM8: ４．Ⅰ | CN8: ５．Ⅲ | CO8: ６．Ⅳ | CY8: １．なし ２．Ⅱ ４．Ⅰ ５．Ⅲ ６．Ⅳ
AG9: 虐待防止措置未実施 | CK9: １．なし | CL9: ２．あり | CY9: １．なし ２．あり
AG10: 業務継続計画未策定 | CK10: １．なし | CL10: ２．あり | CY10: １．なし ２．あり
AG11: 情報公表未報告 | CK11: １．なし | CL11: ２．あり | CY11: １．なし ２．あり
AG12: 行動障害支援体制 | CK12: １．なし | CL12: ２．Ⅱ | CM12: ３．Ⅰ | CY12: １．なし ２．Ⅱ ３．Ⅰ
AG13: 要医療児者支援体制 | CK13: １．なし | CL13: ２．Ⅱ | CM13: ３．Ⅰ | CY13: １．なし ２．Ⅱ ３．Ⅰ
AG14: 精神障害者支援体制 | CK14: １．なし | CL14: ２．Ⅱ | CM14: ３．Ⅰ | CY14: １．なし ２．Ⅱ ３．Ⅰ
AG15: 主任相談支援専門員配置 | CK15: １．なし | CL15: ２．Ⅱ | CM15: ３．Ⅰ | CY15: １．なし ２．Ⅱ ３．Ⅰ
AG16: ピアサポート体制 | CK16: １．なし | CL16: ２．あり | CY16: １．なし ２．あり
AG17: 地域生活支援拠点等 | CK17: １．非該当 | CL17: ２．該当 | CY17: １．非該当 ２．該当
AG18: 地域体制強化共同支援加算対象（※2） | CK18: １．なし | CL18: ２．あり | CY18: １．なし ２．あり
AG19: 地域生活支援拠点等機能強化体制 | CK19: １．なし | CL19: ２．あり | CY19: １．なし ２．あり
AG20: 高次脳機能障害支援体制 | CK20: １．なし | CL20: ２．Ⅱ | CM20: ３．Ⅰ
AG21: 福祉・介護職員等処遇改善加算対象 | CK21: １．なし | CL21: ２．あり | CY21: １．なし ２．Ⅱ ３．Ⅰ
A22: ※１ | C22: 「地域体制強化共同支援加算対象」欄は、地域生活支援拠点等が「１．非該当」の場合、「１．なし」または「２．あり」を設定する。 地域生活支援拠点等が「２．該当」の場合、「１．なし」を設定する。

Sheet 勤務形態一覧表
A1: 従業者の勤務の体制及び勤務形態一覧表 | AI1: サービス種別 | AK1: 特定相談支援・障害児相談支援
M2: 2025 | Q2: 年 | U2: 月 | AI2: 事業所名
AI3: (1)記載する期間
AI4: (2)予定/実績の別
AG5: (3)事業所における常勤の従業者が勤務すべき時間数 | AK5: 時間/週 | AM5: 時間/月
A7: No. | B7: (4)職種 | C7: (5)勤務形態 | D7: (6)資格 | E7: (7)氏名 | F7: (8) | AK7: (9)勤務時間数合計 | AL7: (10)週平均の勤務時間数 | AM7: (11)兼務状況 （兼務先／兼務する職務の内容）等
F8: 第１週 | M8: 第２週 | T8: 第３週 | AA8: 第４週 | AH8: 第５週
F9: =DATE($M$2,$S$2,1) -> 45627 | G9: =DATE($M$2,$S$2,2) -> 45628 | H9: =DATE($M$2,$S$2,3) -> 45629 | I9: =DATE($M$2,$S$2,4) -> 45630 | J9: =DATE($M$2,$S$2,5) -> 45631 | K9: =DATE($M$2,$S$2,6) -> 45632 | L9: =DATE($M$2,$S$2,7) -> 45633 | M9: =DATE($M$2,$S$2,8) -> 45634 | N9: =DATE($M$2,$S$2,9) -> 45635 | O9: =DATE($M$2,$S$2,10) -> 45636 | P9: =DATE($M$2,$S$2,11) -> 45637 | Q9: =DATE($M$2,$S$2,12) -> 45638 | R9: =DATE($M$2,$S$2,13) -> 45639 | S9: =DATE($M$2,$S$2,14) -> 45640 | T9: =DATE($M$2,$S$2,15) -> 45641 | U9: =DATE($M$2,$S$2,16) -> 45642 | V9: =DATE($M$2,$S$2,17) -> 45643 | W9: =DATE($M$2,$S$2,18) -> 45644 | X9: =DATE($M$2,$S$2,19) -> 45645 | Y9: =DATE($M$2,$S$2,20) -> 45646 | Z9: =DATE($M$2,$S$2,21) -> 45647 | AA9: =DATE($M$2,$S$2,22) -> 45648 | AB9: =DATE($M$2,$S$2,23) -> 45649 | AC9: =DATE($M$2,$S$2,24) -> 45650 | AD9: =DATE($M$2,$S$2,25) -> 45651 | AE9: =DATE($M$2,$S$2,26) -> 45652 | AF9: =DATE($M$2,$S$2,27) -> 45653 | AG9: =DATE($M$2,$S$2,28) -> 45654 | AH9: =IF(DAY(EOMONTH(F9,0))<29,"",DATE($M$2,$S$2,29)) -> 45655 | AI9: =IF(DAY(EOMONTH(F9,0))<30,"",DATE($M$2,$S$2,30)) -> 45656 | AJ9: =IF(DAY(EOMONTH(F9,0))<31,"",DATE($M$2,$S$2,31)) -> 45657
F10: =DATE($M$2,$S$2,1) -> 45627 | G10: =DATE($M$2,$S$2,2) -> 45628 | H10: =DATE($M$2,$S$2,3) -> 45629 | I10: =DATE($M$2,$S$2,4) -> 45630 | J10: =DATE($M$2,$S$2,5) -> 45631 | K10: =DATE($M$2,$S$2,6) -> 45632 | L10: =DATE($M$2,$S$2,7) -> 45633 | M10: =DATE($M$2,$S$2,8) -> 45634 | N10: =DATE($M$2,$S$2,9) -> 45635 | O10: =DATE($M$2,$S$2,10) -> 45636 | P10: =DATE($M$2,$S$2,11) -> 45637 | Q10: =DATE($M$2,$S$2,12) -> 45638 | R10: =DATE($M$2,$S$2,13) -> 45639 | S10: =DATE($M$2,$S$2,14) -> 45640 | T10: =DATE($M$2,$S$2,15) -> 45641 | U10: =DATE($M$2,$S$2,16) -> 45642 | V10: =DATE($M$2,$S$2,17) -> 45643 | W10: =DATE($M$2,$S$2,18) -> 45644 | X10: =DATE($M$2,$S$2,19) -> 45645 | Y10: =DATE($M$2,$S$2,20) -> 45646 | Z10: =DATE($M$2,$S$2,21) -> 45647 | AA10: =DATE($M$2,$S$2,22) -> 45648 | AB10: =DATE($M$2,$S$2,23) -> 45649 | AC10: =DATE($M$2,$S$2,24) -> 45650 | AD10: =DATE($M$2,$S$2,25) -> 45651 | AE10: =DATE($M$2,$S$2,26) -> 45652 | AF10: =DATE($M$2,$S$2,27) -> 45653 | AG10: =DATE($M$2,$S$2,28) -> 45654 | AH10: =IF(DAY(EOMONTH(F10,0))<29,"",DATE($M$2,$S$2,29)) -> 45655 | AI10: =IF(DAY(EOMONTH(F10,0))<30,"",DATE($M$2,$S$2,30)) -> 45656 | AJ10: =IF(DAY(EOMONTH(F10,0))<31,"",DATE($M$2,$S$2,31)) -> 45657
A11: 1 | AK11: =+SUM(F11:AJ11) -> 0 | AL11: =IF($AK$3="４週",AK11/4,AK11/(DAY(EOMONTH($F$9,0))/7)) -> 0
A12: 2 | AK12: =+SUM(F12:AJ12) -> 0 | AL12: =IF($AK$3="４週",AK12/4,AK12/(DAY(EOMONTH($F$9,0))/7)) -> 0
A13: 3 | AK13: =+SUM(F13:AJ13) -> 0 | AL13: =IF($AK$3="４週",AK13/4,AK13/(DAY(EOMONTH($F$9,0))/7)) -> 0
A14: 4 | AK14: =+SUM(F14:AJ14) -> 0 | AL14: =IF($AK$3="４週",AK14/4,AK14/(DAY(EOMONTH($F$9,0))/7)) -> 0
A15: 5 | AK15: =+SUM(F15:AJ15) -> 0 | AL15: =IF($AK$3="４週",AK15/4,AK15/(DAY(EOMONTH($F$9,0))/7)) -> 0
A16: 6 | AK16: =+SUM(F16:AJ16) -> 0 | AL16: =IF($AK$3="４週",AK16/4,AK16/(DAY(EOMONTH($F$9,0))/7)) -> 0
A17: 7 | AK17: =+SUM(F17:AJ17) -> 0 | AL17: =IF($AK$3="４週",AK17/4,AK17/(DAY(EOMONTH($F$9,0))/7)) -> 0
A18: 8 | AK18: =+SUM(F18:AJ18) -> 0 | AL18: =IF($AK$3="４週",AK18/4,AK18/(DAY(EOMONTH($F$9,0))/7)) -> 0
A19: 9 | AK19: =+SUM(F19:AJ19) -> 0 | AL19: =IF($AK$3="４週",AK19/4,AK19/(DAY(EOMONTH($F$9,0))/7)) -> 0
A20: 10 | AK20: =+SUM(F20:AJ20) -> 0 | AL20: =IF($AK$3="４週",AK20/4,AK20/(DAY(EOMONTH($F$9,0))/7)) -> 0
A21: 11 | AK21: =+SUM(F21:AJ21) -> 0 | AL21: =IF($AK$3="４週",AK21/4,AK21/(DAY(EOMONTH($F$9,0))/7)) -> 0
A22: 12 | AK22: =+SUM(F22:AJ22) -> 0 | AL22: =IF($AK$3="４週",AK22/4,AK22/(DAY(EOMONTH($F$9,0))/7)) -> 0
... A30: 20 | AK30: =+SUM(F30:AJ30) -> 0 | AL30: =IF($AK$3="４週",AK30/4,AK30/(DAY(EOMONTH($F$9,0))/7)) -> 0
A31: 合計 | F31: =+SUM(F11:F30) -> 0 | G31: =+SUM(G11:G30) -> 0 | H31: =+SUM(H11:H30) -> 0 | I31: =+SUM(I11:I30) -> 0 | J31: =+SUM(J11:J30) -> 0 | K31: =+SUM(K11:K30) -> 0 | L31: =+SUM(L11:L30) -> 0 | M31: =+SUM(M11:M30) -> 0 | ... AJ31: =+SUM(AJ11:AJ30) -> 0 | AK31: =+SUM(F31:AJ31) -> 0 | AL31: =IF($AK$3="４週",AK31/4,AK31/(DAY(EOMONTH($F$9,0))/7)) -> 0
A32: サービス提供時間
A35: ＜前６か月の平均値＞※新規申請の場合は推定数を記載ください。
D36: =IF(MONTH($F$9)<7,MONTH($F$9)+6,MONTH($F$9)-6) -> 6 | E36: =IF(MONTH($F$9)<6,MONTH($F$9)+7,MONTH($F$9)-5) -> 7 | F36: =IF(MONTH($F$9)<5,MONTH($F$9)+8,MONTH($F$9)-4) -> 8 | I36: =IF(MONTH($F$9)<4,MONTH($F$9)+9,MONTH($F$9)-3) -> 9 | L36: =IF(MONTH($F$9)<3,MONTH($F$9)+10,MONTH($F$9)-2) -> 10 | O36: =IF(MONTH($F$9)<2,MONTH($F$9)+11,MONTH($F$9)-1) -> 11 | R36: 計 | V36: 平均利用者数 | Z36: 相談支援専門員の数の標準
A37: 障害者 | D37: 85 | E37: 86 | F37: 86 | I37: 86 | L37: 88 | O37: 90 | R37: =SUM(D37:Q37) -> 521 | V37: =ROUNDUP((R37+R38)/6,1) -> 106.7 | Z37: =ROUNDDOWN(V37/35,1) -> 3
A38: 障害児 | D38: 20 | E38: 21 | F38: 21 | I38: 21 | L38: 19 | O38: 17 | R38: =+SUM(D38:Q38) -> 119
A39: ＜実人数集計＞
C40: =IF(VLOOKUP($AK$1,[4]選択肢!$A$1:$J$31,C45,FALSE)=0,"-",VLOOKUP($AK$1,[4]選択肢!$A$1:$J$31,C45,FALSE)) -> 管理者 | E40: =IF(VLOOKUP($AK$1,[4]選択肢!$A$1:$J$31,E45,FALSE)=0,"-",VLOOKUP($AK$1,[4]選択肢!$A$1:$J$31,E45,FALSE)) -> 相談支援専門員 | I40: =IF(VLOOKUP($AK$1,[4]選択肢!$A$1:$J$31,I45,FALSE)=0,"-",VLOOKUP($AK$1,[4]選択肢!$A$1:$J$31,I45,FALSE)) -> 相談支援員 | O40: =IF(VLOOKUP($AK$1,[4]選択肢!$A$1:$J$31,O45,FALSE)=0,"-",VLOOKUP($AK$1,[4]選択肢!$A$1:$J$31,O45,FALSE)) -> - | U40: =IF(VLOOKUP($AK$1,[4]選択肢!$A$1:$J$31,U45,FALSE)=0,"-",VLOOKUP($AK$1,[4]選択肢!$A$1:$J$31,U45,FALSE)) -> - | AA40: =IF(VLOOKUP($AK$1,[4]選択肢!$A$1:$J$31,AA45,FALSE)=0,"-",VLOOKUP($AK$1,[4]選択肢!$A$1:$J$31,AA45,FALSE)) -> - | AG40: =IF(VLOOKUP($AK$1,[4]選択肢!$A$1:$J$31,AG45,FALSE)=0,"-",VLOOKUP($AK$1,[4]選択肢!$A$1:$J$31,AG45,FALSE)) -> - | AL40: =IF(VLOOKUP($AK$1,[4]選択肢!$A$1:$J$31,AL45,FALSE)=0,"-",VLOOKUP($AK$1,[4]選択肢!$A$1:$J$31,AL45,FALSE)) -> -
C41: 専従 | D41: 兼務 | E41: 専従 | F41: 兼務 | I41: 専従 | L41: 兼務 | O41: 専従 | R41: 兼務 | U41: 専従 | X41: 兼務 | AA41: 専従 | AD41: 兼務 | AG41: 専従 | AJ41: 兼務 | AL41: 専従 | AM41: 兼務
B42: 常勤 | C42: =COUNTIFS($B$11:$B$30,C$40,$C$11:$C$30,"A",$E$11:$E$30,"*") -> 0 | D42: =COUNTIFS($B$11:$B$30,C$40,$C$11:$C$30,"B",$E$11:$E$30,"*") -> 0 | E42: =COUNTIFS($B$11:$B$30,E$40,$C$11:$C$30,"A",$E$11:$E$30,"*") -> 0 | F42: =COUNTIFS($B$11:$B$30,E$40,$C$11:$C$30,"B",$E$11:$E$30,"*") -> 0 | I42: =COUNTIFS($B$11:$B$30,I$40,$C$11:$C$30,"A",$E$11:$E$30,"*") -> 0 | L42: =COUNTIFS($B$11:$B$30,I$40,$C$11:$C$30,"B",$E$11:$E$30,"*") -> 0 | O42: =COUNTIFS($B$11:$B$30,O$40,$C$11:$C$30,"A",$E$11:$E$30,"*") -> 0 | R42: =COUNTIFS($B$11:$B$30,O$40,$C$11:$C$30,"B",$E$11:$E$30,"*") -> 0 | U42: =COUNTIFS($B$11:$B$30,U$40,$C$11:$C$30,"A",$E$11:$E$30,"*") -> 0 | X42: =COUNTIFS($B$11:$B$30,U$40,$C$11:$C$30,"B",$E$11:$E$30,"*") -> 0 | AA42: =COUNTIFS($B$11:$B$30,AA$40,$C$11:$C$30,"A",$E$11:$E$30,"*") -> 0 | AD42: =COUNTIFS($B$11:$B$30,AA$40,$C$11:$C$30,"B",$E$11:$E$30,"*") -> 0 | AG42: =COUNTIFS($B$11:$B$30,AG$40,$C$11:$C$30,"A",$E$11:$E$30,"*") -> 0 | AJ42: =COUNTIFS($B$11:$B$30,AG$40,$C$11:$C$30,"B",$E$11:$E$30,"*") -> 0 | AL42: =COUNTIFS($B$11:$B$30,AL$40,$C$11:$C$30,"A",$E$11:$E$30,"*") -> 0 | AM42: =COUNTIFS($B$11:$B$30,AL$40,$C$11:$C$30,"B",$E$11:$E$30,"*") -> 0
B43: 非常勤 | C43: =COUNTIFS($B$11:$B$30,C$40,$C$11:$C$30,"C",$E$11:$E$30,"*") -> 0 | D43: =COUNTIFS($B$11:$B$30,C$40,$C$11:$C$30,"D",$E$11:$E$30,"*") -> 0 | E43: =COUNTIFS($B$11:$B$30,E$40,$C$11:$C$30,"C",$E$11:$E$30,"*") -> 0 | F43: =COUNTIFS($B$11:$B$30,E$40,$C$11:$C$30,"D",$E$11:$E$30,"*") -> 0 | I43: =COUNTIFS($B$11:$B$30,I$40,$C$11:$C$30,"C",$E$11:$E$30,"*") -> 0 | L43: =COUNTIFS($B$11:$B$30,I$40,$C$11:$C$30,"D",$E$11:$E$30,"*") -> 0 | O43: =COUNTIFS($B$11:$B$30,O$40,$C$11:$C$30,"C",$E$11:$E$30,"*") -> 0 | R43: =COUNTIFS($B$11:$B$30,O$40,$C$11:$C$30,"D",$E$11:$E$30,"*") -> 0 | U43: =COUNTIFS($B$11:$B$30,U$40,$C$11:$C$30,"C",$E$11:$E$30,"*") -> 0 | X43: =COUNTIFS($B$11:$B$30,U$40,$C$11:$C$30,"D",$E$11:$E$30,"*") -> 0 | AA43: =COUNTIFS($B$11:$B$30,AA$40,$C$11:$C$30,"C",$E$11:$E$30,"*") -> 0 | AD43: =COUNTIFS($B$11:$B$30,AA$40,$C$11:$C$30,"D",$E$11:$E$30,"*") -> 0 | AG43: =COUNTIFS($B$11:$B$30,AG$40,$C$11:$C$30,"C",$E$11:$E$30,"*") -> 0 | AJ43: =COUNTIFS($B$11:$B$30,AG$40,$C$11:$C$30,"D",$E$11:$E$30,"*") -> 0 | AL43: =COUNTIFS($B$11:$B$30,AL$40,$C$11:$C$30,"C",$E$11:$E$30,"*") -> 0 | AM43: =COUNTIFS($B$11:$B$30,AL$40,$C$11:$C$30,"D",$E$11:$E$30,"*") -> 0
B44: 常勤換算数 | C44: =IF($AK$3="４週",SUMIFS($AK$11:$AK$30,$B$11:$B$30,C40)/4/$AH$5,IF($AK$3="歴月",SUMIFS($AK$11:$AK$30,$B$11:$B$30,C40)/$AL$5,"記載する期間を選択してください")) -> 記載する期間を選択してください | E44: =IF($AK$3="４週",SUMIFS($AK$11:$AK$30,$B$11:$B$30,E40)/4/$AH$5,IF($AK$3="歴月",SUMIFS($AK$11:$AK$30,$B$11:$B$30,E40)/$AL$5,"記載する期間を選択してください")) -> 記載する期間を選択してください | I44: =IF($AK$3="４週",SUMIFS($AK$11:$AK$30,$B$11:$B$30,I40)/4/$AH$5,IF($AK$3="歴月",SUMIFS($AK$11:$AK$30,$B$11:$B$30,I40)/$AL$5,"記載する期間を選択してください")) -> 記載する期間を選択してください | O44: =IF($AK$3="４週",SUMIFS($AK$11:$AK$30,$B$11:$B$30,O40)/4/$AH$5,IF($AK$3="歴月",SUMIFS($AK$11:$AK$30,$B$11:$B$30,O40)/$AL$5,"記載する期間を選択してください")) -> 記載する期間を選択してください | U44: =IF($AK$3="４週",SUMIFS($AK$11:$AK$30,$B$11:$B$30,U40)/4/$AH$5,IF($AK$3="歴月",SUMIFS($AK$11:$AK$30,$B$11:$B$30,U40)/$AL$5,"記載する期間を選択してください")) -> 記載する期間を選択してください | AA44: =IF($AK$3="４週",SUMIFS($AK$11:$AK$30,$B$11:$B$30,AA40)/4/$AH$5,IF($AK$3="歴月",SUMIFS($AK$11:$AK$30,$B$11:$B$30,AA40)/$AL$5,"記載する期間を選択してください")) -> 記載する期間を選択してください | AG44: =IF($AK$3="４週",SUMIFS($AK$11:$AK$30,$B$11:$B$30,AG40)/4/$AH$5,IF($AK$3="歴月",SUMIFS($AK$11:$AK$30,$B$11:$B$30,AG40)/$AL$5,"記載する期間を選択してください")) -> 記載する期間を選択してください | AL44: =IF($AK$3="４週",SUMIFS($AK$11:$AK$30,$B$11:$B$30,AL40)/4/$AH$5,IF($AK$3="歴月",SUMIFS($AK$11:$AK$30,$B$11:$B$30,AL40)/$AL$5,"記載する期間を選択してください")) -> 記載する期間を選択してください
C45: 2 | E45: 3 | I45: 4 | O45: 5 | U45: 6 | AA45: 7 | AG45: 8 | AL45: 9
A46: ・最初に「年月欄」「サービス種別」「事業所名」を入力してください。 | R46: 6 | X46: 7 | AD46: 8 | AJ46: 9
A47: (1) 「４週」・「暦月」のいずれかを選択してください。
A48: (2) 「予定」・「実績」のいずれかを選択してください。
A49: (3) 事業所における常勤の従業者が勤務すべき時間数を入力してください。
A50: (4) 従業者の職種を入力してください。
A51: 記入の順序は、職種ごとにまとめてください。
A52: (5) 従業者の勤務形態について、下記のうち該当する区分の記号を入力してください。
B53: 記号 | C53: 区分
B54: A | C54: 常勤で専従
B55: B | C55: 常勤で兼務
B56: C | C56: 非常勤で専従
B57: D | C57: 非常勤で兼務
B58: （注）常勤・非常勤の区分について
B59: 当該事業所における勤務時間が、当該事業所において定められている常勤の従業者が勤務すべき時間数に達していることをいいます。雇用の形態は考慮しません。
B60: （例えば、常勤者は週に40時間勤務することとされた事業所であれば、非正規雇用であっても、週40時間勤務する従業者は常勤扱いとなります。）
A61: (6) 従業者の保有する資格を入力してください。
A62: 保有資格を全て記入するのではなく、人員基準上、求められる資格等を入力してください。
A63: ※選択した資格及び研修に関して、必要に応じて、資格証又は研修修了証等の写しを添付資料として提出してください。
A64: (7) 従業者の氏名を記入してください。
A65: (8) 申請する事業に係る従業者（管理者を含む。）の1ヶ月分の勤務時間を入力してください。常勤の職員が休暇を取得する場合は、「休」と入力してください。
A66: ※ 指定基準の確認に際しては、４週分の入力で差し支えありません。
A67: (9) 従業者ごとに、合計勤務時間数を入力してください。
A68: ※ 入力することができる時間数は、当該事業所において常勤の従業者が勤務すべき勤務時間数を上限とします。
A69: (10) 従業者ごとに、週平均の勤務時間数を入力してください。
A70: (11) 申請する事業所以外の事業所・施設との兼務がある場合は、兼務先の事業所・施設の名称、兼務する職務の内容について記入してください。
A71: 同一事業所内の兼務についても兼務する職務の内容を記入してください。
A72: その他、特記事項欄としてもご活用ください。
A73: （12) 必要項目を満たしていれば、各事業所で使用するシフト表等をもって代替書類として差し支えありません。

Sheet 【別添1-5】相談支援（単独）
C2: （別添１－５） | R2: 年 月 日
B4: 機能強化型（継続）サービス利用支援費に関する届出書 （単独で要件を満たす場合）
B6: １ 事業所名
B7: ２ 異動区分 | G7: １ 新規 ２ 変更 ３ 終了
B8: ３ 届出項目 | G8: １ 機能強化型（継続）サービス利用支援費(Ⅰ) ２ (Ⅱ) ３ (Ⅲ) ４ (Ⅳ)
V12: 有 ・ 無
C13: ① 常勤かつ専従の相談支援専門員を配置している。※１
C14: 相談支援専門員の配置状況
D16: 相談支援専門員 | K16: 常勤専従 | O16: 人 | P16: 常勤兼務 | T16: 人
D18: 上記のうち現任研修修了者 | K18: 常勤専従 | O18: 人 | P18: 常勤兼務 | T18: 人
C21: ①-a 特別地域であり、かつ、従業者の確保が著しく困難と福岡市長が認める地域に | V21: 有 ・ 無
C22: 所在し、他事業所における現任研修を修了した相談支援専門員による助言指導の
C23: 体制が確保されている。
D24: ※２ 「有」の場合、①について現任研修修了者が配置されていなくても差し支えない。
C25: ② 利用者に関する情報又はサービス提供に当たっての留意事項に係る伝達等を | V25: 有 ・ 無
C26: 目的とした会議を定期的に開催している。
C27: ③ 24時間常時連絡できる体制を整備している。 | V27: 有 ・ 無
C28: ④ 当該指定特定（障がい児）相談支援事業所の新規に採用した全ての相談支援専門員 | V28: 有 ・ 無
C29: に対し、現任研修を修了した相談支援専門員の同行による研修を実施している。
C30: ⑤ 基幹相談支援センター等からの支援困難ケースが紹介された場合に、 | V30: 有 ・ 無
C31: 当該ケースを受託する体制を整備している。
C32: ⑥ 基幹相談支援センター等が実施する事例検討会等に参加している。 | V32: 有 ・ 無
C33: ⑦ 協議会に定期的に参画し、協議会の構成機関等の連携の緊密化を図るために | V33: 有 ・ 無
C34: 必要な取組を実施している。
C35: ⑧ 基幹相談支援センターが行う地域の相談支援体制の強化の取組に参画している。 | V35: 有 ・ 無
C36: ⑨ １人の相談支援専門員の取扱件数（前６月平均）が40件未満である。 | V36: 有 ・ 無
B38: ※１ 機能強化型（継続）サービス利用支援費（（Ⅰ）（Ⅱ）（Ⅲ））の算定根拠となっている相談支援専門員 の兼務について 常勤かつ専従となっている相談支援専門員（算定根拠となっている現任研修修了者を除く。）のうち、 １名は同一敷地内の他の事業所と兼務することができる。 なお、同一敷地内の指定障がい児相談支援事業所、指定一般相談支援事業所、指定自立生活 援助事業所の場合については、上記１名に限らず兼務することができる。
B39: ※３ 各要件を満たす場合については、それぞれ根拠となる（要件を満たすことがわかる）書類も 提出すること。（例：勤務形態一覧表、会議録、各種取組に関する記録等） （書類の右上に①～⑨と記入）
B40: ※４ 令和７年３月31日までに限り、⑦、⑧については、令和６年３月31日時点において機能強化型 （継続）サービス利用支援費(Ⅰ)～（Ⅳ）を算定している事業所は「無」の場合も算定可能である。
C43: ※ （Ⅰ）・（Ⅱ）については、①、②～⑨（⑦、⑧については※４参照）がすべて有の場合算定可。
C44: ※ （Ⅲ）については、①、②、④～⑨（⑦、⑧については※４参照）がすべて有の場合算定可。
C45: ※ （Ⅳ）については、①、②、④～⑥、⑨がすべて有の場合算定可。

Sheet 機能強化型（単独）添付書類
A1: ○機能強化型（継続）サービス支援費の算定にかかる届出に必要な書類 ※単独
A2: 提出書類 | B2: 機能強化型
B3: (Ⅰ) | C3: (Ⅱ) | D3: (Ⅲ) | E3: (Ⅳ)
A4: 変更届出書（様式第７号） | B4: ● | C4: ● | D4: ● | E4: ●
A5: 介護給付費等算定に係る体制等に関する届出書 | B5: ● | C5: ● | D5: ● | E5: ●
A6: 介護給付費等の算定に係る体制状況一覧表 | B6: ● | C6: ● | D6: ● | E6: ●
A7: 管理者・従業者の勤務の体制及び勤務形態一覧表（別添29） | B7: ● | C7: ● | D7: ● | E7: ●
A8: 機能強化型サービス利用支援費に関する届出書（別添1-5）※単独用 | B8: ● | C8: ● | D8: ● | E8: ●
A9: 利用者に関する情報又はサービス提供に当たっての留意事項に係る伝達等を目的とした会議記録の写し（任意様式） | B9: ● | C9: ● | D9: ● | E9: ●
A10: 現任研修を修了した相談支援専門員による同行研修の記録 ※新規に採用した者がいない場合は研修計画（任意様式） | B10: ● | C10: ● | D10: ● | E10: ●
A11: 基幹相談支援センターから紹介された困難事例の受け入れ状況の記録（任意様式） | B11: ● | C11: ● | D11: ● | E11: ●
A12: 基幹相談支援センター等が実施する事例検討会等への参加状況の記録（任意様式） | B12: ● | C12: ● | D12: ● | E12: ●
A13: 計画相談支援及び障がい児相談支援に係る前６月間の取扱件数が40件未満であることが分かる書類（任意様式） | B13: ● | C13: ● | D13: ● | E13: ●
A14: 相談支援従事者現任研修（主任相談支援専門員養成研修を含む）修了証の写し | B14: ● | C14: ● | D14: ● | E14: ●
A15: 協議会に参画し、協議会の構成機関等の連携の緊密化を図るために必要な取り組みを実施していることが確認できる書類（任意様式） | B15: ● | C15: ● | D15: ●
A16: 基幹相談支援センターが行う地域の相談支援体制の強化の取り組みに参画していることが確認できる書類（任意様式） | B16: ● | C16: ● | D16: ●
A17: 24時間常時連絡できる体制の整備が確認できる書類（任意様式） | B17: ● | C17: ●
A18: ※ 「利用者に関する情報又はサービス提供に当たっての留意事項に係る伝達等を目的とした 会議」の議題には、少なくとも以下の議事を含めること。 ① 現に抱える処遇困難ケースについての具体的な処遇方針 ② 過去に取り扱ったケースについての問題点及びその改善方策 ③ 地域における事業者や活用できる社会資源の状況 ④ 保健医療及び福祉に関する諸制度 ⑤ アセスメント及びサービス等利用計画の作成に関する技術 ⑥ 利用者（本人及びその家族）からの苦情があった場合は、その内容及び改善方針 ⑦ その他必要な事項

Sheet 機能強化型（単独）保存様式
A1: 機能強化型サービス利用支援費の算定に係る基準の遵守状況に関する記録 ※単独で要件を満たす場合（保存用）〔標準様式〕
B3: 令和 年 月サービス提供分
B5: 異動等区分 | D5: １ 新規 ２ 継続 ３ 変更 ４ 終了
B7: 加算の区分 | D7: １ 機能強化型(Ⅰ) ２ 機能強化型(Ⅱ) ３ 機能強化型(Ⅲ) ４ 機能強化型（Ⅳ）
A10: １ 相談支援専門員（常勤・専従）の状況
B12: 相談支援 専門員数 | D12: 人 | F12: 内 訳 | G12: 常勤 | H12: 専従 人 | K12: 非常勤 | L12: 専従 人
H14: 兼務 人 | L14: 兼務 人
C17: ※ 相談支援従事者初任者研修の修了証を添付すること。 | D17: ※主任介護支援専門員を含めない。 | E17: ※主任介護支援専門員を含めない。 | F17: ※主任介護支援専門員を含めない。 | G17: ※主任介護支援専門員を含めない。 | H17: ※主任介護支援専門員を含めない。 | I17: ※主任介護支援専門員を含めない。 | J17: ※主任介護支援専門員を含めない。 | K17: ※主任介護支援専門員を含めない。 | L17: ※主任介護支援専門員を含めない。 | M17: ※主任介護支援専門員を含めない。 | N17: ※主任介護支援専門員を含めない。
A20: 相談支援専門員（現任研修（※主任研修を含む）修了者）の状況
B22: 相談支援専門員氏名
C25: ※ 主任相談支援専門員研修、相談支援従事者現任研修の修了証を添付すること。 | D25: ※主任介護支援専門員を含めない。 | E25: ※主任介護支援専門員を含めない。 | F25: ※主任介護支援専門員を含めない。 | G25: ※主任介護支援専門員を含めない。 | H25: ※主任介護支援専門員を含めない。 | I25: ※主任介護支援専門員を含めない。 | J25: ※主任介護支援専門員を含めない。 | K25: ※主任介護支援専門員を含めない。 | L25: ※主任介護支援専門員を含めない。 | M25: ※主任介護支援専門員を含めない。 | N25: ※主任介護支援専門員を含めない。
A28: ２ 定期的な会議の開催
B30: 利用者に関する情報又はサービス提供に当たっての留意事項に係る伝達等を目的とした会議を概ね週１回以上開催している。 ※「有」の場合には、開催記録を添付すること。
K31: 有 ・ 無
B33: 開催日 | D33: ① 日 | F33: ② 日 | H33: ③ 日 | J33: ④ 日 | L33: ⑤ 日
C35: ※ 議題については、「障害者の日常生活及び社会生活を総合的に支援するための法律に基づく指定障害福祉サービス等及び基準該当障害福祉サービスに要する費用の額の算定に関する基準等の制定に伴う実施上の留意事項について（平成18年10月31日障発1031001）に沿った議事を含めること。
A37: ３ ２４時間連絡体制の確保
B39: ２４時間常時連絡できる体制を確保し、かつ、必要に応じて利用者等の相談に対応する体制を確保している。 | K39: 有 ・ 無
B41: 具体的な方法
C42: ※ 「有」の場合には、具体的な体制を示した書類の添付でも可とする。 | D42: ※主任介護支援専門員を含めない。 | E42: ※主任介護支援専門員を含めない。 | F42: ※主任介護支援専門員を含めない。 | G42: ※主任介護支援専門員を含めない。 | H42: ※主任介護支援専門員を含めない。 | I42: ※主任介護支援専門員を含めない。 | J42: ※主任介護支援専門員を含めない。 | K42: ※主任介護支援専門員を含めない。 | L42: ※主任介護支援専門員を含めない。 | M42: ※主任介護支援専門員を含めない。 | N42: ※主任介護支援専門員を含めない。
A44: ４ 研修の実施
B46: 当該相談支援事業所の新規に採用した全ての相談支援専門員に対し、現任研修を修了した相談支援専門員の同行による研修を実施している。 | K46: 有 ・ 無
C47: ※ 「有」の場合には、研修の実施計画及び実施状況を示した書面を添付すること。
A49: ５ 基幹相談支援センター等との連携について
C52: （基幹相談支援センター等から支援が困難な利用者の紹介があった場合）当該利用者に計画相談支援の提供を開始した。 | K52: 有 ・ 無
K53: （開始件数 ： 件）
C56: （基幹相談支援センター等が開催する事例検討会等がある場合） 当該事例検討会等に参加した。 | K56: 有 ・ 無
K57: 参加年月日： 主催団体名：
C59: ※ 「有」の場合には、研修の実施計画及び実施状況を示した書面を添付すること。
A61: ６ 相談支援専門員一人当たりの取扱件数
C63: １月当たりのサービス利用支援等の数（前６月平均） | J63: 件
C64: １月当たりの相談支援専門員の人数（前６月平均） | J64: 人 | L64: 件／人
C65: ※ サービス利用支援等とは、サービス利用支援及び継続サービス利用支援（障がい児相談支援事業の指定も受けている場合は障がい児支援利用援助、継続障がい児支援利用援助を含む）をさす。

Sheet 【別添1-6】相談支援 (協働)
B2: （別添１－６） | R2: 年 月 日
B4: 機能強化型（継続）サービス利用支援費に関する届出書
B5: （複数の指定特定相談支援事業所により一体的に管理運営を行う場合）
B7: １ 事業所名
B8: ２ 異動区分 | G8: １ 新規 ２ 変更 ３ 終了
B9: ３ 届出項目 | G9: １ 機能強化型（継続）サービス利用支援費(Ⅰ) ２ (Ⅱ) ３ (Ⅲ)
C13: ① 常勤かつ専従の相談支援専門員を配置している。※１ | V13: 有 ・ 無
C14: 相談支援専門員の配置状況（合計）
D15: 相談支援専門員 | K15: 常勤専従 | O15: 人 | P15: 常勤兼務 | T15: 人
D17: 上記のうち現任研修修了者 | K17: 常勤専従 | O17: 人 | P17: 常勤兼務 | T17: 人
C18: それぞれの事業所における相談支援専門員の配置状況
D19: ⑴ 事業所名 | N19: （当該事業所）
D21: 相談支援専門員 | K21: 常勤専従 | O21: 人 | P21: 常勤兼務 | T21: 人
D23: 上記のうち現任研修修了者 | K23: 常勤専従 | O23: 人 | P23: 常勤兼務 | T23: 人
D25: ⑵ 事業所名 | N25: （他の事業所）
D27: 相談支援専門員 | K27: 常勤専従 | O27: 人 | P27: 常勤兼務 | T27: 人
D29: 上記のうち現任研修修了者 | K29: 常勤専従 | O29: 人 | P29: 常勤兼務 | T29: 人
D30: ※２ 記載欄が不足する場合は適宜欄を追加すること（別紙可）
C31: ①-a 特別地域であり、かつ、従業者の確保が著しく困難と市町村長が認める地域に所在し、 | V31: 有 ・ 無
C32: 他事業所における現任研修を修了した相談支援専門員による助言指導の体制が確保されている。
D33: ※３ 「有」の場合、①について現任研修修了者が配置されていなくても差し支えない。
C34: ②-(a) 協働体制を確保する事業所間において、協定を締結している。 | V34: 有 ・ 無
C35: ②-(b) 協働体制の要件を満たしているかについて、事業所間において定期的（月１回）に確認が実施されている。 | V35: 有 ・ 無
C36: ②-(c) 原則、全職員が参加するケース共有会議、事例検討会を月２回以上共同開催している。 | V36: 有 ・ 無
C37: ③ 利用者に関する情報又はサービス提供に当たっての留意事項に係る伝達等を目的とした会議を定期的に | V37: 有 ・ 無
C38: 開催している。
C39: ④ 協働体制を確保する事業所間において24時間常時連絡できる体制を整備している。 | V39: 有 ・ 無
C40: ⑤ 当該指定特定（障がい児）相談支援事業所の新規に採用した全ての相談支援専門員に対し、 | V40: 有 ・ 無
C41: 現任研修を修了した相談支援専門員の同行による研修を実施している。
C42: ⑥ 基幹相談支援センター等からの支援困難ケースが紹介された場合に、当該ケースを受託する体制を | V42: 有 ・ 無
C43: 整備している。
C44: ⑦ 基幹相談支援センター等が実施する事例検討会等に参加している。 | V44: 有 ・ 無
C45: ⑧ 協議会に定期的に参画し、協議会の構成機関等の連携の緊密化を図るために必要な取組を実施している。 | V45: 有 ・ 無
C46: ⑨ 基幹相談支援センターが行う地域の相談支援体制の強化の取組に参画している。 | V46: 有 ・ 無
C47: ⑩ 運営規程において、地域生活支援拠点等であることを市町村により位置付けられていることを定めている。 | V47: 有 ・ 無
C48: ⑪ 地域生活支援拠点等を構成する関係機関（拠点関係機関）との連携体制を確保するとともに、 | V48: 有 ・ 無
C49: 協議会に定期的に参画している。
D50: ※４ ⑩、⑪についてはいずれかが「有」であれば要件を満たす。
C51: ⑫ １人の相談支援専門員の取扱件数（前６月平均）がそれぞれ40件未満である。 | V51: 有 ・ 無
B53: ※１ 機能強化型（継続）サービス利用支援費（（Ⅰ）（Ⅱ）（Ⅲ））の算定根拠となっている相談支援専門員の兼務について 常勤かつ専従となっている相談支援専門員（算定根拠となっている現任研修修了者を除く。）のうち、１名は同一敷地内の 他の事業所と兼務することができる。 なお、同一敷地内の指定障がい児相談支援事業所、指定一般相談支援事業所、指定自立生活援助事業所の場合については、 上記１名に限らず兼務することができる。
B54: ※５ 各要件を満たす場合については、それぞれ根拠となる（要件を満たすことがわかる）書類も提出すること。 （例：勤務形態一覧表、会議録、各種取組に関する記録等）（書類の右上に①～⑫と記入）
B55: ※６ 令和７年３月31日までに限り、⑧、⑨については、令和６年３月31日時点において機能強化型（継続）サービス利用支援費 (Ⅰ)～（Ⅳ）を算定している事業所は「無」の場合も算定可能である。
C57: ※ （Ⅰ）・（Ⅱ）については、①、②～⑨、⑫（⑧、⑨については※６参照）がすべて有の場合であって、⑩、⑪のいずれかが有の場合に
C58: 算定可。
C59: ※ （Ⅲ）については、①、②、③、⑤～⑨、⑫（⑧、⑨については※６参照）がすべて有の場合であって、⑩、⑪のいずれかが
C60: 有の場合に算定可。

Sheet 機能強化型（協働）添付書類
A1: ○機能強化型（継続）サービス支援費の算定にかかる届出に必要な書類 ※協働
A2: 提出書類 | B2: 機能強化型
B3: (Ⅰ) | C3: (Ⅱ) | D3: (Ⅲ)
A4: 変更届出書（様式第７号） | B4: ● | C4: ● | D4: ●
A5: 介護給付費等算定に係る体制等に関する届出書 | B5: ● | C5: ● | D5: ●
A6: 介護給付費等の算定に係る体制状況一覧表 | B6: ● | C6: ● | D6: ●
A7: 管理者・従業者の勤務の体制及び勤務形態一覧表（別添29） | B7: ● | C7: ● | D7: ●
A8: 機能強化型サービス利用支援費に関する届出書（別添1-6）※協働用 | B8: ● | C8: ● | D8: ●
A9: 利用者に関する情報又はサービス提供に当たっての留意事項に係る伝達等を目的とした会議記録の写し（任意様式） | B9: ● | C9: ● | D9: ●
A10: 現任研修を修了した相談支援専門員による同行研修の記録（任意様式） ※新規に採用した者がいない場合は研修計画 | B10: ● | C10: ● | D10: ●
A11: 基幹相談支援センターから紹介された困難事例の受け入れ状況の記録（任意様式） | B11: ● | C11: ● | D11: ●
A12: 基幹相談支援センター等が実施する事例検討会等への参加状況の記録（任意様式） | B12: ● | C12: ● | D12: ●
A13: 計画相談支援及び障がい児相談支援に係る前６月間の取扱件数が40件未満であることが分かる書類（任意様式） | B13: ● | C13: ● | D13: ●
A14: 相談支援従事者現任研修修了証の写し | B14: ● | C14: ● | D14: ●
A15: 24時間の連絡体制整備が確認できる書類（任意様式） | B15: ● | C15: ●
A16: 協議会に参画し、協議会の構成機関等の連携の緊密化を図るために必要な取り組みを実施していることが確認できる書類（任意様式） | B16: ● | C16: ● | D16: ●
A17: 基幹相談支援センターが行う地域の相談支援体制の強化の取り組みに参画していることが確認できる書類（任意様式） | B17: ● | C17: ● | D17: ●
A18: 事業所間の協定書の写し | B18: ● | C18: ● | D18: ●
A19: 運営規程（「地域生活支援拠点等」の位置づけの定めがあるもの） | B19: ● | C19: ● | D19: ●
A20: ※ 「利用者に関する情報又はサービス提供に当たっての留意事項に係る伝達等を目的とした 会議」の議題には、少なくとも以下の議事を含めること。 ① 現に抱える処遇困難ケースについての具体的な処遇方針 ② 過去に取り扱ったケースについての問題点及びその改善方策 ③ 地域における事業者や活用できる社会資源の状況 ④ 保健医療及び福祉に関する諸制度 ⑤ アセスメント及びサービス等利用計画の作成に関する技術 ⑥ 利用者（本人及びその家族）からの苦情があった場合は、その内容及び改善方針 ⑦ その他必要な事項
A21: ※ 協定書は、少なくとも以下に示す事項を含む協定を締結したことがわかるように記載すること。 協定の締結年月日、協定を締結する事業所名、協定の目的、協働により確保する体制の内容、協働体制が維持されていることの確認方法、協働する事業所の義務、協定が無効や解除となる場合の事由や措置、秘密保持、協定の有効期間

Sheet 機能強化型（協働）保存様式
A1: 機能強化型サービス利用支援費の算定に係る基準の遵守状況に関する記録 ※複数の事業所で一体的に管理運営を行う場合（保存用）〔標準様式〕
B3: 令和 年 月サービス提供分
B5: 異動等区分 | D5: １ 新規 ２ 継続 ３ 変更 ４ 終了
B7: 加算の区分 | D7: １ 機能強化型(Ⅰ) ２ 機能強化型(Ⅱ) ３ 機能強化型(Ⅲ)
A10: １ 相談支援専門員（常勤・専従）の状況
B12: （合計）
B13: 相談支援 専門員数 | D13: 人 | F13: 内 訳 | G13: 常勤 | H13: 専従 人 | K13: 非常勤 | L13: 専従 人
H15: 兼務 人 | L15: 兼務 人
C18: ※ 相談支援従事者初任者研修の修了証を添付すること。 | D18: ※主任介護支援専門員を含めない。 | E18: ※主任介護支援専門員を含めない。 | F18: ※主任介護支援専門員を含めない。 | G18: ※主任介護支援専門員を含めない。 | H18: ※主任介護支援専門員を含めない。 | I18: ※主任介護支援専門員を含めない。 | J18: ※主任介護支援専門員を含めない。 | K18: ※主任介護支援専門員を含めない。 | L18: ※主任介護支援専門員を含めない。 | M18: ※主任介護支援専門員を含めない。 | N18: ※主任介護支援専門員を含めない。
A20: 相談支援専門員（現任研修（※主任研修を含む）修了者）の状況
B22: 相談支援専門員（現任研修修了者）氏名
C25: ※ 主任相談支援専門員研修、相談支援従事者現任研修の修了証を添付すること。 | D25: ※主任介護支援専門員を含めない。 | E25: ※主任介護支援専門員を含めない。 | F25: ※主任介護支援専門員を含めない。 | G25: ※主任介護支援専門員を含めない。 | H25: ※主任介護支援専門員を含めない。 | I25: ※主任介護支援専門員を含めない。 | J25: ※主任介護支援専門員を含めない。 | K25: ※主任介護支援専門員を含めない。 | L25: ※主任介護支援専門員を含めない。 | M25: ※主任介護支援専門員を含めない。 | N25: ※主任介護支援専門員を含めない。
B27: ① 事業所名： | K27: （当該事業所）
B28: 相談支援 専門員数 | D28: 人 | F28: 内 訳 | G28: 常勤 | H28: 専従 人 | K28: 非常勤 | L28: 専従 人
H30: 兼務 人 | L30: 兼務 人
B32: 相談支援専門員（現任研修修了者）氏名
B35: ② 事業所名： | K35: （協定先の事業所）
B36: 相談支援 専門員数 | D36: 人 | F36: 内 訳 | G36: 常勤 | H36: 専従 人 | K36: 非常勤 | L36: 専従 人
H38: 兼務 人 | L38: 兼務 人
B40: 相談支援専門員（現任研修修了者）氏名
A43: ２ 協働体制
B45: 協定を締結していること。 | K45: 有 ・ 無
B46: 算定の要件を満たしているかについて、月１回確認していること。 | K46: 有 ・ 無
K47: 確認年月日：
B49: 全職員が参加するケース共有会議や事例検討会を月２回以上共同開催している。 ※「有」の場合には、開催記録を添付すること。 | K49: 有 ・ 無
B51: 開催日 | D51: ① 日 | F51: ② 日 | H51: ③ 日 | J51: ④ 日 | L51: ⑤ 日
A53: ３ 定期的な会議の開催
B55: 利用者に関する情報又はサービス提供に当たっての留意事項に係る伝達等を目的とした会議を概ね週１回以上開催している。 ※「有」の場合には、開催記録を添付すること。
K56: 有 ・ 無
B58: 開催日 | D58: ① 日 | F58: ② 日 | H58: ③ 日 | J58: ④ 日 | L58: ⑤ 日
C60: ※ 議題については、「障害者の日常生活及び社会生活を総合的に支援するための法律に基づく指定障害福祉サービス等及び基準該当障害福祉サービスに要する費用の額の算定に関する基準等の制定に伴う実施上の留意事項について（平成18年10月31日障発1031001）に沿った議事を含めること。
A62: ４ ２４時間連絡体制の確保
B64: ２４時間常時連絡できる体制を確保し、かつ、必要に応じて利用者等の相談に対応する体制を確保している。 | K64: 有 ・ 無
B66: 具体的な方法
C67: ※ 「有」の場合には、具体的な体制を示した書類の添付でも可とする。 | D67: ※主任介護支援専門員を含めない。 | E67: ※主任介護支援専門員を含めない。 | F67: ※主任介護支援専門員を含めない。 | G67: ※主任介護支援専門員を含めない。 | H67: ※主任介護支援専門員を含めない。 | I67: ※主任介護支援専門員を含めない。 | J67: ※主任介護支援専門員を含めない。 | K67: ※主任介護支援専門員を含めない。 | L67: ※主任介護支援専門員を含めない。 | M67: ※主任介護支援専門員を含めない。 | N67: ※主任介護支援専門員を含めない。
A69: ５ 研修の実施
B71: 当該相談支援事業所の新規に採用した全ての相談支援専門員に対し、現任研修を修了した相談支援専門員の同行による研修を実施している。 | K71: 有 ・ 無
C72: ※ 「有」の場合には、研修の実施計画及び実施状況を示した書面を添付すること。
A74: ６ 基幹相談支援センター等との連携について
C77: （基幹相談支援センター等から支援が困難な利用者の紹介があった場合）当該利用者に計画相談支援の提供を開始した。 | K77: 有 ・ 無
K78: （開始件数 ： 件）
C81: （基幹相談支援センター等が開催する事例検討会等がある場合） 当該事例検討会等に参加した。 | K81: 有 ・ 無
K82: 参加年月日： 主催団体名：
C84: ※ 「有」の場合には、研修の実施計画及び実施状況を示した書面を添付すること。
A86: ７ 相談支援専門員一人当たりの取扱件数
C88: １月当たりのサービス利用支援等の数（前６月平均） | J88: 件
C89: １月当たりの相談支援専門員の人数（前６月平均） | J89: 人 | L89: 件／人
C90: ※ サービス利用支援等とは、サービス利用支援及び継続サービス利用支援（障がい児相談支援事業の指定も受けている場合は障がい児支援利用援助、継続障がい児支援利用援助を含む）をさす。

Sheet 【別添９】主任相談支援専門員配置加算
R2: 年 月 日
B3: 主任相談支援専門員配置加算に関する届出書
B5: １ 事業所名
B6: ２ 異動区分 | G6: １ 新規 ２ 変更 ３ 終了
B7: ３ 届出項目 | G7: １ 主任相談支援専門員配置加算(Ⅰ) ２ (Ⅱ)
B8: ４ 修了者名
B9: ５ 公表の有無 | G9: 有 ・ 無
B10: ６ 公表の方法
B11: ※事業所に掲示及びホームページ等に公表していることが必要。（公表していることが分かる資料を別途添付すること）
B13: 主任相談支援専門員配置加算(Ⅰ)
C14: ① 基幹相談支援センターの委託を受けている、児童発達支援センターと一体的に運営している又は地域の | V14: 有 ・ 無
C15: 相談支援の中核を担う指定特定（障がい児）相談支援事業所（②～⑦をすべて満たすもの）である。
C16: ② 地域生活支援拠点等（機能：相談）の認定事業所である。 | V16: 有 ・ 無
C17: ③ 福岡市が機能強化型（継続）サービス利用支援費（Ⅰ～Ⅲ）を認定している事業所である。 | V17: Ⅰ・Ⅱ・Ⅲ
C18: ④ 基幹相談支援センターから支援困難ケースの受け入れ要請があった場合、断らずに受け入れていること。 | V18: 有 ・ 無
C19: ⑤ 当該指定特定（障がい児）相談支援事業所の従業者に加え、他の指定特定（障がい児）相談支援事業所等の | V19: 有 ・ 無
D20: 従業者に対して、主任相談支援専門員がサービスの総合的かつ適切な利用支援等の援助技術の向上等を目的
D21: として指導、助言を行っている。
C22: ⑥ 基幹相談支援センターが実施する相談支援体制強化の取組みに事務局側として参画または共同で実施し | V22: 有 ・ 無
D23: １年以上経過している。
C24: 【下記の内容をすべて実施すること】
C25: ・区部会、区部会事務局会議に参加すること
C26: ・相談支援ネットワークに事務局側として参画し、事例提供を行うとともに、ファシリテーターの役割を担うこと
C27: ⑦ | D27: 福岡県が行う相談支援従事者研修の実習の受入を行っている。 | V27: 有 ・ 無
B28: ※ | C28: 根拠となる修了証の写し及び④～⑥については各種取組に関する記録等の要件を満たすことが分かる書類（任意様式）を
C29: 別途添付すること。なお、提出の際は書類の右上に④～⑥と記入すること。（①～③、⑦は書類の提出は不要）
B32: 主任相談支援専門員配置加算(Ⅱ)
C33: ① 利用者に関する情報又はサービス提供に当たっての留意事項に係る伝達等を目的とした会議を | V33: 有 ・ 無
C34: 定期的（概ね週1回以上）に開催している。（1人事業所の場合は他の事業所に対し実施すること）
C35: ② 当該指定特定（障がい児）相談支援事業所の新規に採用した全ての相談支援専門員に対し、主任相談 | V35: 有 ・ 無
C36: 支援専門員の同行による研修を実施している。（1人事業所の場合は他の事業所に対し実施すること）
C37: ③ 当該指定特定（障がい児）相談支援事業所の全ての相談支援専門員に対し、主任相談支援専門員が適切な利用 | V37: 有 ・ 無
D38: 支援等の援助技術の向上等を目的として指導、助言を行っている。（1人事業所の場合は他の事業所に対し
D39: 実施すること）
C40: ④ 基幹相談支援センターが実施する地域の相談支援事業者の人材育成や支援の質の向上のための取組の支援等 | V40: 有 ・ 無
C41: について協力している（相談支援ネットワークに参加し事例提供を行う、基幹相談支援センターが実施する
C42: 研修に講師として派遣される等）。
C43: ⑤ | D43: 福岡県が行う相談支援従事者研修の実習の受入を行っている。 | V43: 有 ・ 無
B44: ※ | C44: 根拠となる修了証の及び①～④については各種取組に関する記録等の要件を満たすことが分かる書類（任意様式）を
C45: 別途添付すること。なお、提出の際は書類の右上に①～④と記入すること。 （⑤は書類の提出は不要）
B46: ※ | C46: 機能強化型（継続）サービス利用支援費（Ⅰ～Ⅲ）の届出を行っている場合は、①、②に関する書類の提出は不要。

Sheet 【別添22】ピアサポート体制加算（相談）
B1: （別添22）
J2: 年 月 日
A4: ピアサポート体制加算に関する届出書
B6: １ 事業所名
B7: ２ サービスの種類
B8: ３ 異動区分 | C8: １ 新規 ２ 変更 ３ 終了
B9: ４ 障害者ピアサ ポート研修修了 職員 | C9: ＜雇用されている障がい者又は障がい者であった者＞
C10: 職種 | D10: 氏名 | E10: 修了した研修の名称 | H10: 受講 年度 | J10: 研修の 実施主体
I11: 年
I12: 年
I13: 年
E15: 常勤（人） | F15: 非常勤（人） | G15: 合計（人） | H15: （0.5以上であること）
D16: 実人員
D17: 常勤換算数
C19: ＜その他の職員＞
C20: 職種 | D20: 氏名 | E20: 修了した研修の名称 | H20: 受講 年度 | J20: 研修の 実施主体
I21: 年
I22: 年
I23: 年
E25: 常勤（人） | F25: 非常勤（人） | G25: 合計（人） | H25: （0.5以上であること）
D26: 実人員
D27: 常勤換算数
B29: ５ 研修の実施 | C29: 直上により配置した者のいずれかにより、当該事業所等の従業者に対し、障がい者に対する配慮等に関する研修を年１回以上行っている。 | H29: 確認欄
B32: 注１ 研修を修了した職員は、＜障がい者又は障がい者であった者＞及び＜その他の職員＞それぞれ常勤換算 方法で0.5以上を配置（併設する事業所（指定自立生活援助事業所、指定地域移行支援事業所、指定地域 定着支援事業所、指定特定相談支援事業所又は指定障がい児相談支援事業所に限る。）の職員を兼務する 場合は当該兼務先を含む業務時間の合計が常勤換算方法で0.5以上になる場合を含む）してください。
B33: 注２ ＜障がい者又は障がい者であった者＞の職種は、サービス管理責任者、地域生活支援員、地域移行支援 従事者、地域定着支援従事者、相談支援専門員、相談支援員、計画相談支援に従事する者、 障がい児相談支援に従事する者 ＜その他の職員＞の職種は、管理者、サービス管理責任者、地域生活支援員、地域移行支援従事者、 地域定着支援従事者、相談支援専門員、相談支援員、計画相談支援に従事する者、障がい児相談支援に 従事する者が対象。
B34: 注２ 修了した研修の名称欄は「地域生活支援事業の障害者ピアサポート研修の基礎研修及び専門研修」等と具 体的に記載。
B35: 注３ 受講した研修の実施要綱、カリキュラム及び研修を修了したことを証明する書類等を添付してください。

Sheet 【別添39】体制加算（相談支援）
B2: 【別添39】 | R2: 年 月 日
B4: 体制加算に関する届出書（相談支援事業所） (行動障害支援体制加算・要医療児者支援体制加算・精神障害者支援体制加算・高次脳機能障害支援体制加算)
B6: 事業所名
B7: 異動区分 | G7: １ 新規 ２ 変更 ３ 終了
B8: 届 出 項 目 | G8: １ 行動障害支援体制加算(Ⅰ) | R8: ２ (Ⅱ)
G9: １ 要医療児者支援体制加算(Ⅰ) | R9: ２ (Ⅱ)
G10: １ 精神障害者支援体制加算(Ⅰ) | R10: ２ (Ⅱ)
G11: １ 高次脳機能障害支援体制加算(Ⅰ) | R11: ２ (Ⅱ)
B13: 【行動障害支援体制加算】
C14: ① 強度行動障害支援者養成研修(実践研修)又は行動援護従業者養成研修を修了した常勤の相談支援専門員 | V14: 有 ・ 無
C15: を１名以上配置している。
D16: 修了者名
C18: ② 研修修了者を配置している旨を公表している。 | V18: 有 ・ 無
D19: 公表の方法
C21: ③ 研修修了者が強度行動障がい児者（※）に対して直近６月以内において計画相談支援又は障がい児相談支援 | V21: 有 ・ 無
C22: のいずれかを実施している。
C23: ※区分３以上かつ行動障害関連項目が10点以上の者（障がい児の場合、児基準が20点以上の者）
B25: 【要医療児者支援体制加算】
C26: ① 医療的ケア児等の障がい特性及びこれに応じた支援技法等に関する研修を修了した常勤の相談支援専門員 | V26: 有 ・ 無
C27: を１名以上配置している。
D28: 修了者名
C30: ② 研修修了者を配置している旨を公表している。 | V30: 有 ・ 無
D31: 公表の方法
C33: ③ 研修修了者が医療的ケア児者（※）に対して直近６月以内において計画相談支援又は障がい児相談支援 | V33: 有 ・ 無
C34: のいずれかを実施している。
C35: ※スコア表の項目の欄に掲げるいずれかの医療行為を必要とする状態である者
B37: 【精神障害者支援体制加算】
C38: ① 精神障がい者の障がい特性及びこれに応じた支援技法等に関する研修を修了した常勤の相談支援専門員 | V38: 有 ・ 無
C39: を１名以上配置している。
D40: 修了者名
C42: ② 研修修了者を配置している旨を公表している。 | V42: 有 ・ 無
D43: 公表の方法
C45: ③ 研修修了者が精神障がい者又は精神に障がいのある児童に対して直近６月以内において計画相談支援 | V45: 有 ・ 無
C46: 又は障がい児相談支援のいずれかを実施している。
C47: ④ 利用者が通院又は利用する病院等及び訪問看護事業所（療養生活継続支援加算を算定 | V47: 有 ・ 無
C48: 又は精神科重症患者支援管理連携加算の届出をしているもの）における保健師、看護師
C49: 又は精神保健福祉士と連携する体制が構築されている。
D50: 連携先病院等の名称
B53: 【高次脳機能障害支援体制加算】
C54: ① 高次脳機能障害支援者養成に関する研修を修了した常勤の相談支援専門員を１名以上配置している。 | V54: 有 ・ 無
D55: 修了者名
C57: ② 研修修了者を配置している旨を公表している。 | V57: 有 ・ 無
D58: 公表の方法
C60: ③ 研修修了者が高次脳機能障害児者に対して直近６月以内において計画相談支援又は障がい児相談支援 | V60: 有 ・ 無
C61: のいずれかを実施している。
B64: ※ 根拠となる修了証の写し及び公表していることが分かる資料（ホームぺージの写し等）を別途添付すること。
B65: ※ 各体制加算（Ⅰ）については、①～③（精神障害者支援体制加算については④）までがすべて「有」の場合算定可。
B66: ※ 各体制加算（Ⅱ）については、①及び②が「有」の場合算定可。

Sheet 【別添52】地域生活支援拠点等に関連する加算
B2: （別添52） | T2: 年 月 日
A4: 地域生活支援拠点等に関連する加算の届出
B6: 地域生活支援拠点等に関連する加算の要件を満たす事業所として、以下のとおり届け出ます。
B8: １ 届出区分 | G8: １ 新規 ２ 変更 ３ 終了
B9: ２ 事業所の名称
B10: ３ 地域生活支援拠点等 としての位置付け | G10: 市町村により地域生活支援拠点等として 位置付けられたことを証明する運営規程の有無 | U10: 有 ・ 無
G12: 市町村により地域生活支援拠点等として位置付けられた日付 | X12: 年 | Z12: 月 | AB12: 日
B13: ４ 市町村及び地域生活 支援拠点等との連携及 び調整に従事する者の 氏名 | G13: ※該当者が複数名いる場合は、各々の氏名を記載すること。
B14: ５ 当該届出により算定する加算 | D14: ≪緊急時対応加算 地域生活支援拠点等の場合≫ | Q14: 対象：訪問系サービス※、 重度障害者等包括支援（訪問系サービスのみ対象）
D15: ≪緊急時支援加算 地域生活支援拠点等の場合≫ | Q15: 対象：自立生活援助、地域定着支援、 重度障害者等包括支援（自立生活援助のみ対象）
D16: ≪地域生活支援拠点等として短期入所を行った場合の加算≫ | Q16: 対象：短期入所、重度障害者等包括支援
D17: ≪緊急時受入加算≫ | Q17: 対象：日中系サービス※
D18: ≪障害福祉サービスの体験利用加算≫ | Q18: 対象：日中系サービス※
D19: ≪体験利用支援加算・体験宿泊加算≫ | Q19: 対象：地域移行支援
D20: ≪地域移行促進加算（Ⅱ）≫ | Q20: 対象：施設入所支援
D21: ≪地域生活支援拠点等相談強化加算≫ | Q21: 対象：計画相談支援、障害児相談支援
B23: 添付書類：運営規定 運営規程は、当該事業所等が地域生活支援拠点等の機能を担う事業所であることが規定されているもの(規定の変更の手続中であるものを含む。) に限る。なお、事業所の運営規程が変更の手続中のものである場合は、当該変更の手続の完了後、速やかに変更後の運営規程を提出すること。 注１ 地域生活支援拠点等機能強化加算については別に定める様式にて届出を行うこと。 注２ 訪問系サービスとは、居宅介護、重度訪問介護、同行援護、行動援護をいう。 注３ 日中系サービスとは、生活介護、自立訓練（機能訓練）、自立訓練（生活訓練）、就労移行支援（養成含む）、就労 継続支援Ａ型、就労継続支援Ｂ型、就労選択支援をいう。
