Workbook

Sheet 有料老人ホーム点検表
G1: 令和８年４月福岡市作成
B3: 有料老人ホーム点検表
J4: ★入力欄 （※施設名はプルダウンリストから選択してください。類似する施設名にご注意ください。）
J6: 施設名
J7: 点検日 | S7: 点検者名
J8: 入居者の状況 | L8: 入居定員 | O8: 名
L9: 入居者数 | O9: 名 | P9: （うち、男性 | T9: 名、 | U9: 女性 | W9: 名）
L10: ＜介護度別＞
L11: 自立 | N11: 支援１ | P11: 支援２ | R11: 介護１ | T11: 介護２ | V11: 介護３ | X11: 介護４ | Z11: 介護５
G15: ※福岡市有料老人ホーム設置運営指導指針
B16: 点 検 項 目 | F16: 根拠法令 及び指針※ | G16: 点 検 結 果 (適・不適・非該当)
B17: １ 設備関係 （消防設備を除き、サ高住は対象外）
A18: 1(1)① | B18: (1) | C18: 施設全体 | D18: ① | E18: 日照、採光、換気等利用者の保健衛生について十分配慮しているか。 | F18: 指針５(５)
A19: 1(1)② | D19: ② | E19: 入居者が主に利用する主要箇所（居室、トイレ、浴室等）に緊急通報装置（ナースコール）が設置されているか。 | F19: 指針５(９)⑨
A20: 1(1)③ | D20: ③ | E20: 清潔・不潔の区別がなされているか、動線が重ならないか（食堂、機能訓練室、調理室等を通らずに汚物を搬出できるよう配慮しているか）。 | F20: 指針別表１
A21: 1(1)④ | D21: ④ | E21: 必要に応じ、手すり（居室、トイレ、浴室等）やスロープ等が設置されているか。
A22: 1(1)⑤ | D22: ⑤ | E22: 事業で利用しない部屋・設備等がある場合は、鍵を設置する等、入居者が間違って入らないような措置が取られているか。
A23: 1(2)① | B23: (2) | C23: 一般居室・介護居室、及び一時介護室 | D23: ① | E23: 居室の定員は、１人（個室）となっているか（ただし、必要と認められる場合は２人も可）。 | F23: 指針５(９)①
A24: 1(2)② | D24: ② | E24: 利用者のプライバシーの保護に配慮しているか（入口扉には管理用のぞき窓等を設けていないか）。 | F24: 指針別表１
A25: 1(2)③ | D25: ③ | E25: 防炎カーテンを使用しているか。
A26: 1(2)④ | D26: ④ | E26: 入居者の閉じ込め防止策はとられているか。
A27: 1(2)⑤ | D27: ⑤ | E27: ２階以上に居室を設置する場合、入居者が窓等から転落しないような措置をとっているか。
A28: 1(3)① | B28: (3) | C28: 浴室 | D28: ① | E28: 脱衣所及び浴室で利用者を介助することができるスペースを適切に確保しているか。 | F28: 指針別表１
A29: 1(3)② | D29: ② | E29: ヒートショック対策のため、脱衣室の温度管理が適切になされているか。
A30: 1(4)① | B30: (4) | C30: トイレ・ 洗面設備 | D30: ① | E30: 感染症防止のため、タオルの使い回しをしないようにしているか。 | F30: 指針別表１
A31: 1(4)② | D31: ② | E31: 石けん等消毒用品が設置されているか。また、石けんは固形のものを使用していないか。
A32: 1(4)③ | D32: ③ | E32: トイレの出入り口は扉になっているか（カーテンやアコーディオンカーテンは不可）。
A33: 1(4)④ | D33: ④ | E33: 誤飲事故防止のため、洗剤等の危険物を安全な場所に保管しているか。
A34: 1(5)① | B34: (5) | C34: 医務室又は 健康管理室 | D34: ① | E34: 感染防止のため、清潔・不潔のものが混在しないようにしているか。 | F34: 指針別表１
A35: 1(5)② | D35: ② | E35: 誤飲事故防止のため、医薬品等の保管場所には鍵がついているか。
A36: 1(6)① | B36: (6) | C36: 洗濯室 | D36: ① | E36: 汚物用と清潔用の洗濯機を別に設置しているか。 | F36: 指針別表１
A37: 1(7)① | B37: (7) | C37: 汚物処理室 | D37: ① | E37: 換気及び衛生管理等に十分配慮されているか（扉を閉めた状態で作業ができるような換気設備となっているか）。 | F37: 指針５(９)⑥
A38: 1(8)① | B38: (8) | C38: 非常災害対策 （消防設備） | D38: ① | E38: 避難経路が確保されているか（非常口は利用者が避難できるようになっているか、避難経路に荷物を置いていないか）。 | F38: 指針別表１、消防法第８条の２の４
D39: ② | E39: 火災等の事故や災害に対応するための設備を十分に設置しているか。 | F39: 指針５(３) 消防法第17条 消防法施行令第12条、第21条、第23条
A40: 1(8)②イ | E40: イ 要介護３以上の者の割合が定員の半数以上の施設：スプリンクラー、 火災通報装置（自動火災報知設備と連動が必要）
A41: 1(8)②ロ | E41: ロ イ以外の施設：自動火災報知設備
A42: 1(9)① | B42: (9) | C42: 事務室 | D42: ① | E42: 個人情報は適切な場所に保管されているか。 | F42: 指針別表１
A43: 1(9)② | D43: ② | E43: （医薬品等を保管している場合）医薬品等の保管場所には鍵がついているか。
B44: ２ 職員の配置、研修・衛生管理等
A45: 2(1)① | B45: (1) | C45: 職員数等 | D45: ① | E45: 入居者の数及び提供するサービス内容に応じた職員数が配置されているか。 | F45: 指針７(１)①
...

Sheet 集計
A1: 施設名 | B1: 定員 | C1: 現員 | D1: 現員_男 | E1: 現員_女 | F1: 自立 | G1: 支援１ | H1: 支援２ | I1: 介護１ | J1: 介護２ | K1: 介護３ | L1: 介護４ | M1: 介護５ | N1: 1(1)① | O1: 1(1)② | P1: 1(1)③ | Q1: 1(1)④ | R1: 1(1)⑤ | S1: 1(2)① | T1: 1(2)② | U1: 1(2)③ | V1: 1(2)④ | W1: 1(2)⑤ | X1: 1(3)① | Y1: 1(3)② | Z1: 1(4)① | AA1: 1(4)② | AB1: 1(4)③ | AC1: 1(4)④ | AD1: 1(5)① | AE1: 1(5)② | AF1: 1(6)① | AG1: 1(7)① | AH1: 1(8)① | AI1: 1(8)②イ | AJ1: 1(8)②ロ | AK1: 1(9)① | AL1: 1(9)② | AM1: 2(1)① | AN1: 2(1)② | AO1: 2(2)① | AP1: 2(2)② | AQ1: 2(2)③ | AR1: 2(2)④ | AS1: 2(3)① | AT1: 2(3)② | AU1: 2(3)③ | AV1: 3(1)① | AW1: 3(1)② | AX1: 3(1)③ | AY1: 3(1)④ | AZ1: 3(2)① | BA1: 3(3)①イ | BB1: 3(3)①ロ | BC1: 3(3)①ハ | BD1: 3(3)①ニ | BE1: 3(3)①ホ | BF1: 3(3)①ヘ | BG1: 3(3)①ト | BH1: 3(3)①チ | BI1: 3(4)① | BJ1: 3(5)① | BK1: 3(5)② | BL1: 3(5)③ | BM1: 3(6)① | BN1: 3(6)② | BO1: 3(6)③ | BP1: 3(6)④ | BQ1: 3(6)⑤ | BR1: 3(7)① | BS1: 3(7)② | BT1: 3(7)③ | BU1: 3(8)① | BV1: 3(8)② | BW1: 3(8)③ | BX1: 3(8)④ | BY1: 3(8)⑤ | BZ1: 3(8)⑥ | CA1: 3(8)⑦ | CB1: 3(8)⑧ | CC1: 3(9)① | CD1: 3(9)② | CE1: 3(9)③ | CF1: 3(10)① | CG1: 3(10)② | CH1: 3(10)③ | CI1: 3(10)④ | CJ1: 3(10)⑤ | CK1: 3(10)⑥ | CL1: 4(1)① | CM1: 4(2)① | CN1: 4(2)② | CO1: 4(3)① | CP1: 4(3)② | CQ1: 4(3)③ | CR1: 4(3)④ | CS1: 4(4)① | CT1: 4(4)②イ | CU1: 4(4)②ロ | CV1: 4(4)②ハ | CW1: 4(4)③ | CX1: 4(4)④ | CY1: 4(4)⑤ | CZ1: 4(4)⑥ | DA1: 4(4)⑦ | DB1: 5(1)① | DC1: 5(1)② | DD1: 5(2)① | DE1: 5(2)② | DF1: 5(3)① | DG1: 5(3)② | DH1: 5(3)③ | DI1: 5(3)④ | DJ1: 5(3)⑤ | DK1: 5(3)⑥ | DL1: 6(1)① | DM1: 6(1)② | DN1: 6(1)③イ | DO1: 6(1)③ロ | DP1: 6(1)③ハ | DQ1: 6(1)③ニ | DR1: 6(1)③ホ | DS1: 6(1)③ヘ | DT1: 6(1)③ト | DU1: 6(1)④ | DV1: 6(2)① | DW1: 6(2)②イ | DX1: 6(2)②ロ | DY1: 6(2)③ | DZ1: 6(2)④ | EA1: 6(2)⑤ | EB1: 6(2)⑥ | EC1: 6(3)① | ED1: 6(3)② | EE1: 6(3)③ | EF1: 6(4)① | EG1: 6(4)② | EH1: 6(5)① | EI1: 6(5)② | EJ1: 6(5)③ | EK1: 6(5)④ | EL1: 6(6)① | EM1: 6(6)② | EN1: 6(6)③ | EO1: 6(7)① | EP1: 6(7)② | EQ1: 6(8)① | ER1: 6(9)①
A2: =有料老人ホーム点検表!K6 -> 0 | B2: =有料老人ホーム点検表!N8 -> 0 | C2: =有料老人ホーム点検表!N9 -> 0 | D2: =有料老人ホーム点検表!S9 -> 0 | E2: =有料老人ホーム点検表!V9 -> 0 | F2: =有料老人ホーム点検表!L12 -> 0 | G2: =有料老人ホーム点検表!N12 -> 0 | H2: =有料老人ホーム点検表!P12 -> 0 | I2: =有料老人ホーム点検表!R12 -> 0 | J2: =有料老人ホーム点検表!T12 -> 0 | K2: =有料老人ホーム点検表!V12 -> 0 | L2: =有料老人ホーム点検表!X12 -> 0 | M2: =有料老人ホーム点検表!Z12 -> 0 | N2: =VLOOKUP(集計!N1,有料老人ホーム点検表!$A$18:$G$167,7,FALSE) -> 0 | O2: =VLOOKUP(集計!O1,有料老人ホーム点検表!$A$18:$G$167,7,FALSE) -> 0 | P2: =VLOOKUP(集計!P1,有料老人ホーム点検表!$A$18:$G$167,7,FALSE) -> 0 | Q2: =VLOOKUP(集計!Q1,有料老人ホーム点検表!$A$18:$G$167,7,FALSE) -> 0 | R2: =VLOOKUP(集計!R1,有料老人ホーム点検表!$A$18:$G$167,7,FALSE) -> 0 | S2: =VLOOKUP(集計!S1,有料老人ホーム点検表!$A$18:$G$167,7,FALSE) -> 0 | T2: =VLOOKUP(集計!T1,有料老人ホーム点検表!$A$18:$G$167,7,FALSE) -> 0 | U2: =VLOOKUP(集計!U1,有料老人ホーム点検表!$A$18:$G$167,7,FALSE) -> 0 | ... ER2: =VLOOKUP(集計!ER1,有料老人ホーム点検表!$A$18:$G$167,7,FALSE) -> 0

Sheet 施設
A1: 施設名
A2: レジデンス青葉
A3: ファミエール安里
A4: 太陽の丘
A5: ケアポート箱崎
A6: テポーレ千早
A7: 三日月苑
A8: レジデンス青葉の里
A9: レジデンス三苫駅前
A10: 有料老人ホームすばる
A11: ケアホーム花うさぎ千早
A12: 有料老人ホームげんき
... A337: ブランヴィル野方
