Workbook

Sheet 有料老人ホーム点検表
G1: 令和８年４月福岡市作成
B3: 有料老人ホーム点検表
J4: ★入力欄 （※施設名はプルダウンリストから選択してください。類似する施設名にご注意ください。）
J6: 施設名
J7: 点検日 | S7: 点検者名
J8: 入居者の状況 | L8: 入居定員 | O8: 名
L9: 入居者数 | O9: 名 | P9: （うち、男性 | T9: 名、 | U9: 女性 | W9: 名）
L10: ＜介護度別＞
L11: 自立 | N11: 支援１ | P11: 支援２ | R11: 介護１ | T11: 介護２ | V11: 介護３ | X11: 介護４ | Z11: 介護５
G15: ※福岡市有料老人ホーム設置運営指導指針
B16: 点 検 項 目 | F16: 根拠法令 及び指針※ | G16: 点 検 結 果 (適・不適・非該当)
B17: １ 設備関係 （消防設備を除き、サ高住は対象外）
A18: 1(1)① | B18: (1) | C18: 施設全体 | D18: ① | E18: 日照、採光、換気等利用者の保健衛生について十分配慮しているか。 | F18: 指針５(５)
A19: 1(1)② | D19: ② | E19: 入居者が主に利用する主要箇所（居室、トイレ、浴室等）に緊急通報装置（ナースコール）が設置されているか。 | F19: 指針５(９)⑨
A20: 1(1)③ | D20: ③ | E20: 清潔・不潔の区別がなされているか、動線が重ならないか（食堂、機能訓練室、調理室等を通らずに汚物を搬出できるよう配慮しているか）。 | F20: 指針別表１
A21: 1(1)④ | D21: ④ | E21: 必要に応じ、手すり（居室、トイレ、浴室等）やスロープ等が設置されているか。
A22: 1(1)⑤ | D22: ⑤ | E22: 事業で利用しない部屋・設備等がある場合は、鍵を設置する等、入居者が間違って入らないような措置が取られているか。
A23: 1(2)① | B23: (2) | C23: 一般居室・介護居室、及び一時介護室 | D23: ① | E23: 居室の定員は、１人（個室）となっているか（ただし、必要と認められる場合は２人も可）。 | F23: 指針５(９)①
A24: 1(2)② | D24: ② | E24: 利用者のプライバシーの保護に配慮しているか（入口扉には管理用のぞき窓等を設けていないか）。 | F24: 指針別表１
A25: 1(2)③ | D25: ③ | E25: 防炎カーテンを使用しているか。
A26: 1(2)④ | D26: ④ | E26: 入居者の閉じ込め防止策はとられているか。
A27: 1(2)⑤ | D27: ⑤ | E27: ２階以上に居室を設置する場合、入居者が窓等から転落しないような措置をとっているか。
A28: 1(3)① | B28: (3) | C28: 浴室 | D28: ① | E28: 脱衣所及び浴室で利用者を介助することができるスペースを適切に確保しているか。 | F28: 指針別表１
A29: 1(3)② | D29: ② | E29: ヒートショック対策のため、脱衣室の温度管理が適切になされているか。
A30: 1(4)① | B30: (4) | C30: トイレ・ 洗面設備 | D30: ① | E30: 感染症防止のため、タオルの使い回しをしないようにしているか。 | F30: 指針別表１
A31: 1(4)② | D31: ② | E31: 石けん等消毒用品が設置されているか。また、石けんは固形のものを使用していないか。
A32: 1(4)③ | D32: ③ | E32: トイレの出入り口は扉になっているか（カーテンやアコーディオンカーテンは不可）。
A33: 1(4)④ | D33: ④ | E33: 誤飲事故防止のため、洗剤等の危険物を安全な場所に保管しているか。
A34: 1(5)① | B34: (5) | C34: 医務室又は 健康管理室 | D34: ① | E34: 感染防止のため、清潔・不潔のものが混在しないようにしているか。 | F34: 指針別表１
A35: 1(5)② | D35: ② | E35: 誤飲事故防止のため、医薬品等の保管場所には鍵がついているか。
A36: 1(6)① | B36: (6) | C36: 洗濯室 | D36: ① | E36: 汚物用と清潔用の洗濯機を別に設置しているか。 | F36: 指針別表１
A37: 1(7)① | B37: (7) | C37: 汚物処理室 | D37: ① | E37: 換気及び衛生管理等に十分配慮されているか（扉を閉めた状態で作業ができるような換気設備となっているか）。 | F37: 指針５(９)⑥
A38: 1(8)① | B38: (8) | C38: 非常災害対策 （消防設備） | D38: ① | E38: 避難経路が確保されているか（非常口は利用者が避難できるようになっているか、避難経路に荷物を置いていないか）。 | F38: 指針別表１、消防法第８条の２の４
D39: ② | E39: 火災等の事故や災害に対応するための設備を十分に設置しているか。 | F39: 指針５(３) 消防法第17条 消防法施行令第12条、第21条、第23条
A40: 1(8)②イ | E40: イ 要介護３以上の者の割合が定員の半数以上の施設：スプリンクラー、 火災通報装置（自動火災報知設備と連動が必要）
A41: 1(8)②ロ | E41: ロ イ以外の施設：自動火災報知設備
A42: 1(9)① | B42: (9) | C42: 事務室 | D42: ① | E42: 個人情報は適切な場所に保管されているか。 | F42: 指針別表１
A43: 1(9)② | D43: ② | E43: （医薬品等を保管している場合）医薬品等の保管場所には鍵がついているか。
B44: ２ 職員の配置、研修・衛生管理等
A45: 2(1)① | B45: (1) | C45: 職員数等 | D45: ① | E45: 入居者の数及び提供するサービス内容に応じた職員数が配置されているか。 | F45: 指針７(１)①
A46: 2(1)② | D46: ② | E46: 介護保険事業所等が併設されている場合、当該事業所と有料老人ホームの職員の区分けを行い、適切に勤務表の作成及び管理が行われているか。 | F46: 指針９(３)
A47: 2(2)① | B47: (2) | C47: 研修 | D47: ① | E47: 採用時・採用後において定期的に研修を実施しているか。 | F47: 指針７(２)
A48: 2(2)② | D48: ② | E48: 生活相談員及び直接処遇職員については、高齢者の心身の特性、実施するサービスのあり方及び内容、介護に関する知識及び技術、作業手順等について研修を行っているか。
A49: 2(2)③ | D49: ③ | E49: 外部の研修機関等が実施する研修等に職員を積極的に参加させているか。
A50: 2(2)④ | D50: ④ | E50: 介護に直接携わる職員に対し、認知症介護基礎研修を受講させるための必要な措置を講じているか。
A51: 2(3)① | B51: (3) | C51: 職員の 衛生管理等 | D51: ① | E51: 採用時・採用後において定期的に健康診断を行っているか。 | F51: 指針７(３)
A52: 2(3)② | D52: ② | E52: 職場におけるハラスメントの内容及び職場におけるハラスメントを行ってはならない旨の方針を明確化し、職員に周知・啓発するとともに、相談への対応のための窓口をあらかじめ定め、職員に周知する等、必要な措置を講じているか。
A53: 2(3)③ | D53: ③ | E53: 入居者やその家族等からの著しい迷惑行為の防止（カスタマーハラスメント）のために、相談に応じ、適切に対応するために必要な体制を整備し、対策を講じているか。
B54: ３ 事業運営等
A55: 3(1)① | B55: (1) | C55: 管理規程等 | D55: ① | E55: 定員、利用料、サービス内容とその費用負担、介護を行う場合の基準、医療を要する場合の対応等を明示した管理規程を設けているか。 | F55: 指針８(１)
E56: ※これらの内容を含み入居者への説明事項を適切に提示している資料であればその呼称に関わらず 管理規程として扱ってもよい
A57: 3(1)② | D57: ② | E57: 利用料等の改定ルールを契約書又は管理規程等で定めているか。 | F57: 指針12(２)③
A58: 3(1)③ | D58: ③ | E58: 要介護状態になった入居者を一時介護室において処遇する場合に、本人の意思を確認するとともに、身元引受人等の意見を聞くことを契約書又は管理規程等で定めているか。 | F58: 指針12(２)⑤
A59: 3(1)④ | D59: ④ | E59: 一定の要介護状態になった入居者が、介護居室又は提携ホームへの住み替え、契約解除等を行う契約の場合、一連の手続きを契約書又は管理規程等で定めているか（医師の意見を聴くこと、本人又は身元引受人等の同意を得ること、一定の観察期間を設けること、家賃の差額処理方法等）。 | F59: 指針12(２)⑥
A60: 3(2)① | B60: (2) | C60: 名簿の整備 | D60: ① | E60: 入居者及びその身元引受人等の氏名及び連絡先を記載した名簿を整備しているか。 | F60: 指針８(２)
B61: (3) | C61: 帳簿の整備 | D61: ① | E61: 次の帳簿を作成し、２年間保存しているか。 | F61: 指針８(３)
A62: 3(3)①イ | E62: イ 有料老人ホームの修繕及び改修の実施状況
A63: 3(3)①ロ | E63: ロ 前払金、利用料その他の入居者が負担する費用の受領記録
A64: 3(3)①ハ | E64: ハ 提供サービスの記録
A65: 3(3)①ニ | E65: 二 身体拘束実施に係る記録
A66: 3(3)①ホ | E66: ホ 提供サービスに係る苦情記録
A67: 3(3)①ヘ | E67: ヘ 事故発生時の対応記録
A68: 3(3)①ト | E68: ト 委託に係る契約事項及び業務の実施状況
A69: 3(3)①チ | E69: チ 設備、職員、会計及び入居者の状況に関する事項
A70: 3(4)① | B70: (4) | C70: 個人情報の 取扱い | D70: ① | E70: 個人情報の取り扱いに関する同意をとっているか。 | F70: 指針８(４)
A71: 3(5)① | B71: (5) | C71: 業務継続計画 | D71: ① | E71: 感染症や非常災害の発生時において、入居者に対する処遇を継続的に行うための、及び非常時の体制で早期の業務再開を図るための計画を策定しているか。 | F71: 指針８(５)
A72: 3(5)② | D72: ② | E72: 職員へ業務継続計画を周知するとともに、必要な研修及び訓練を定期的に実行しているか。
A73: 3(5)③ | D73: ③ | E73: 定期的に業務継続計画を見直し、必要に応じて変更を行っているか。
A74: 3(6)① | B74: (6) | C74: 非常災害対策 | D74: ① | E74: 防火管理者及び消防計画を定め、消防署に届け出ているか。 | F74: 消防法第８条
A75: 3(6)② | D75: ② | E75: 消火訓練・避難訓練を年２回以上実施しているか。 | F75: 消防法施行規則 第３条第10項
A76: 3(6)③ | D76: ③ | E76: 訓練の際、できるだけ地域住民の参加が得られるよう努めているか。 | F76: 指針８(６)
A77: 3(6)④ | D77: ④ | E77: 非常災害に関する具体的計画を立て、非常災害時の関係機関への通報及び連携体制を整備し、定期的に職員に周知しているか。
A78: 3(6)⑤ | D78: ⑤ | E78: 施設が浸水想定区域や土砂災害警戒区域、津波災害警戒区域にある場合、避難確保計画を市に提出するとともに、年１回以上の訓練とその報告を市に行っているか。 | F78: 水防法第15条の３、土砂災害防止法第８条の２、津波防災地域づくり法第71条
A79: 3(7)① | B79: (7) | C79: 衛生管理等 | D79: ① | E79: 感染症の予防及びまん延の防止のための対策を検討する委員会をおおむね６月に１回以上開催するとともに、その結果について、職員に周知徹底を図っているか。 | F79: 指針８(７)
A80: 3(7)② | D80: ② | E80: 感染症の予防及びまん延の防止のための指針を整備しているか。
A81: 3(7)③ | D81: ③ | E81: 感染症の予防及びまん延の防止のための研修及び訓練を定期的に実施しているか。
A82: 3(8)① | B82: (8) | C82: 協力医療機関等 | D82: ① | E82: 入居者の病状の急変等に備えるため、あらかじめ協力医療機関を定めているか。 | F82: 指針８(９)
A83: 3(8)② | D83: ② | E83: 第二種協定指定医療機関との間で、新興感染症の発生時等の対応を取り決めるよう努めているか。
A84: 3(8)③ | D84: ③ | E84: 協力医療機関が第二種協定指定医療機関の場合、協力医療機関との間で新興感染症発生時等の対応について協議を行っているか。
A85: 3(8)④ | D85: ④ | E85: 入居者が医療機関に入院した後に、退院が可能となった場合、再び当該有料老人ホームに速やかに入居させることができるよう努めているか。
A86: 3(8)⑤ | D86: ⑤ | E86: あらかじめ、協力歯科医療機関を定めるよう努めているか。
A87: 3(8)⑥ | D87: ⑥ | E87: 協力医療機関及び協力歯科医療機関との協力内容、診療科目、協力科目等について、入居者に周知しているか。
A88: 3(8)⑦ | D88: ⑦ | E88: 入居者が適切に健康相談や健康診断を受けられるよう、医師の訪問や嘱託医の確保などの支援を行っているか。
A89: 3(8)⑧ | D89: ⑧ | E89: 入居者が当該医療機関において診療を受けるように誘引していないか。
E90: ※協力医療機関等は入居者の選択肢として設置者が提示するものであり、入居者が医療機関を自由に 選択することを妨げないこと。また、医療機関から入居者を患者として紹介する対価として金品を 受領するなどの経済上の利益を受けないこと。
A91: 3(9)① | B91: (9) | C91: 介護サービス事業所との関係 | D91: ① | E91: 近隣に設置されている介護サービス事業所について、入居者に情報提供しているか。 | F91: 指針８(10)
A92: 3(9)② | D92: ② | E92: 入居者の介護サービスの利用にあたっては、設置者及び当該設置者と関係のある事業者など特定の事業者からのサービス提供に限定・誘導していないか。
A93: 3(9)③ | D93: ③ | E93: 入居者が希望する介護サービスの利用を妨げていないか。
A94: 3(10)① | B94: (10) | C94: 運営懇談会 | D94: ① | E94: 管理者、職員及び入居者によって構成される運営懇談会が設置・開催されているか。 | F94: 指針８(11)
A95: 3(10)② | D95: ② | E95: 設置が困難なときは、代替となる措置があり、かつ、当該措置が運営懇談会の代替となるものとして入居者への説明を行っているか。
A96: 3(10)③ | D96: ③ | E96: 開催に当たっては、入居者（要介護者等についてはその身元引受人等）に周知し、必要に応じて参加できるように配慮しているか。
A97: 3(10)④ | D97: ④ | E97: 外部からの点検が働くよう、第三者的立場にある学識経験者、民生委員などを加えるよう努めているか。
A98: 3(10)⑤ | D98: ⑤ | E98: 入居者の状況、サービス提供の状況、管理費・食費その他の入居者が設置者に支払う金銭に関する収支等の内容について、定期的に報告し、説明しているか。
A99: 3(10)⑥ | D99: ⑥ | E99: 入居者の要望、意見を運営に反映させるよう努めているか。
B100: ４ サービス等
A101: 4(1)① | B101: (1) | C101: サービス提供 | D101: ① | E101: 契約内容に基づき、適切なサービスを提供しているか（食事・生活相談・健康管理・治療等への協力・安否確認・身元引受人への連絡等）。 | F101: 指針９(１)
A102: 4(2)① | B102: (2) | C102: 金銭管理等 | D102: ① | E102: 金銭等の具体的な管理方法、本人又は身元引受人等への定期的報告等を管理規程等で定めているか。 | F102: 指針９(１)⑩
E103: ※金銭等の管理は入居者自身が行うことを原則とすること。
A104: 4(2)② | D104: ② | E104: 金銭等を管理する場合は、入居者（又は代理人）から同意書を得ているか。
A105: 4(3)① | B105: (3) | C105: 高齢者虐待防止等 | D105: ① | E105: 虐待を防止するための対策検討委員会を定期的に開催するとともに、その結果について職員に周知徹底を図っているか。 | F105: 指針９(４)
...

Sheet 集計
A1: 施設名 | B1: 定員 | C1: 現員 | D1: 現員_男 | E1: 現員_女 | F1: 自立 | G1: 支援１ | H1: 支援２ | I1: 介護１ | J1: 介護２ | K1: 介護３ | L1: 介護４ | M1: 介護５ | N1: 1(1)① | O1: 1(1)② | P1: 1(1)③ | Q1: 1(1)④ | R1: 1(1)⑤ | S1: 1(2)① | T1: 1(2)② | U1: 1(2)③ | V1: 1(2)④ | W1: 1(2)⑤ | X1: 1(3)① | Y1: 1(3)② | Z1: 1(4)① | AA1: 1(4)② | AB1: 1(4)③ | AC1: 1(4)④ | AD1: 1(5)① | AE1: 1(5)② | AF1: 1(6)① | AG1: 1(7)① | AH1: 1(8)① | AI1: 1(8)②イ | AJ1: 1(8)②ロ | AK1: 1(9)① | AL1: 1(9)② | AM1: 2(1)① | AN1: 2(1)② | AO1: 2(2)① | AP1: 2(2)② | AQ1: 2(2)③ | AR1: 2(2)④ | AS1: 2(3)① | AT1: 2(3)② | AU1: 2(3)③ | AV1: 3(1)① | AW1: 3(1)② | AX1: 3(1)③ | AY1: 3(1)④ | AZ1: 3(2)① | BA1: 3(3)①イ | BB1: 3(3)①ロ | BC1: 3(3)①ハ | BD1: 3(3)①ニ | BE1: 3(3)①ホ | BF1: 3(3)①ヘ | BG1: 3(3)①ト | BH1: 3(3)①チ | BI1: 3(4)① | BJ1: 3(5)① | BK1: 3(5)② | BL1: 3(5)③ | BM1: 3(6)① | BN1: 3(6)② | BO1: 3(6)③ | BP1: 3(6)④ | BQ1: 3(6)⑤ | BR1: 3(7)① | BS1: 3(7)② | BT1: 3(7)③ | BU1: 3(8)① | BV1: 3(8)② | BW1: 3(8)③ | BX1: 3(8)④ | BY1: 3(8)⑤ | BZ1: 3(8)⑥ | CA1: 3(8)⑦ | CB1: 3(8)⑧ | CC1: 3(9)① | CD1: 3(9)② | CE1: 3(9)③ | CF1: 3(10)① | CG1: 3(10)② | CH1: 3(10)③ | CI1: 3(10)④ | CJ1: 3(10)⑤ | CK1: 3(10)⑥ | CL1: 4(1)① | CM1: 4(2)① | CN1: 4(2)② | CO1: 4(3)① | CP1: 4(3)② | CQ1: 4(3)③ | CR1: 4(3)④ | CS1: 4(4)① | CT1: 4(4)②イ | CU1: 4(4)②ロ | CV1: 4(4)②ハ | CW1: 4(4)③ | CX1: 4(4)④ | CY1: 4(4)⑤ | CZ1: 4(4)⑥ | DA1: 4(4)⑦ | DB1: 5(1)① | DC1: 5(1)② | DD1: 5(2)① | DE1: 5(2)② | DF1: 5(3)① | DG1: 5(3)② | DH1: 5(3)③ | DI1: 5(3)④ | DJ1: 5(3)⑤ | DK1: 5(3)⑥ | DL1: 6(1)① | DM1: 6(1)② | DN1: 6(1)③イ | DO1: 6(1)③ロ | DP1: 6(1)③ハ | DQ1: 6(1)③ニ | DR1: 6(1)③ホ | DS1: 6(1)③ヘ | DT1: 6(1)③ト | DU1: 6(1)④ | DV1: 6(2)① | DW1: 6(2)②イ | DX1: 6(2)②ロ | DY1: 6(2)③ | DZ1: 6(2)④ | EA1: 6(2)⑤ | EB1: 6(2)⑥ | EC1: 6(3)① | ED1: 6(3)② | EE1: 6(3)③ | EF1: 6(4)① | EG1: 6(4)② | EH1: 6(5)① | EI1: 6(5)② | EJ1: 6(5)③ | EK1: 6(5)④ | EL1: 6(6)① | EM1: 6(6)② | EN1: 6(6)③ | EO1: 6(7)① | EP1: 6(7)② | EQ1: 6(8)① | ER1: 6(9)①
A2: =有料老人ホーム点検表!K6 -> 0 | B2: =有料老人ホーム点検表!N8 -> 0 | C2: =有料老人ホーム点検表!N9 -> 0 | D2: =有料老人ホーム点検表!S9 -> 0 | E2: =有料老人ホーム点検表!V9 -> 0 | F2: =有料老人ホーム点検表!L12 -> 0 | G2: =有料老人ホーム点検表!N12 -> 0 | H2: =有料老人ホーム点検表!P12 -> 0 | I2: =有料老人ホーム点検表!R12 -> 0 | J2: =有料老人ホーム点検表!T12 -> 0 | K2: =有料老人ホーム点検表!V12 -> 0 | L2: =有料老人ホーム点検表!X12 -> 0 | M2: =有料老人ホーム点検表!Z12 -> 0 | N2: =VLOOKUP(集計!N1,有料老人ホーム点検表!$A$18:$G$167,7,FALSE) -> 0 | O2: =VLOOKUP(集計!O1,有料老人ホーム点検表!$A$18:$G$167,7,FALSE) -> 0 | P2: =VLOOKUP(集計!P1,有料老人ホーム点検表!$A$18:$G$167,7,FALSE) -> 0 | Q2: =VLOOKUP(集計!Q1,有料老人ホーム点検表!$A$18:$G$167,7,FALSE) -> 0 | R2: =VLOOKUP(集計!R1,有料老人ホーム点検表!$A$18:$G$167,7,FALSE) -> 0 | S2: =VLOOKUP(集計!S1,有料老人ホーム点検表!$A$18:$G$167,7,FALSE) -> 0 | T2: =VLOOKUP(集計!T1,有料老人ホーム点検表!$A$18:$G$167,7,FALSE) -> 0 | U2: =VLOOKUP(集計!U1,有料老人ホーム点検表!$A$18:$G$167,7,FALSE) -> 0 | ... ER2: =VLOOKUP(集計!ER1,有料老人ホーム点検表!$A$18:$G$167,7,FALSE) -> 0

Sheet 施設
A1: 施設名
A2: レジデンス青葉
A3: ファミエール安里
A4: 太陽の丘
A5: ケアポート箱崎
A6: テポーレ千早
A7: 三日月苑
A8: レジデンス青葉の里
A9: レジデンス三苫駅前
A10: 有料老人ホームすばる
A11: ケアホーム花うさぎ千早
A12: 有料老人ホームげんき
... A337: ブランヴィル野方
